Back to Build/check report for BioC 3.11 experimental data |
This page was generated on 2020-10-15 20:45:46 -0400 (Thu, 15 Oct 2020).
TO THE DEVELOPERS/MAINTAINERS OF THE DeSousa2013 PACKAGE: Please make sure to use the following settings in order to reproduce any error or warning you see on this page. |
Package 90/391 | Hostname | OS / Arch | INSTALL | BUILD | CHECK | ||||||
DeSousa2013 1.24.0 Xin Wang
| malbec2 | Linux (Ubuntu 18.04.4 LTS) / x86_64 | OK | [ OK ] | OK | ![]() |
Package: DeSousa2013 |
Version: 1.24.0 |
Command: /home/biocbuild/bbs-3.11-bioc/R/bin/R CMD build --keep-empty-dirs --no-resave-data DeSousa2013 |
StartedAt: 2020-10-15 10:16:00 -0400 (Thu, 15 Oct 2020) |
EndedAt: 2020-10-15 10:17:12 -0400 (Thu, 15 Oct 2020) |
EllapsedTime: 71.7 seconds |
RetCode: 0 |
Status: OK |
PackageFile: DeSousa2013_1.24.0.tar.gz |
PackageFileSize: 44.65 MiB |
############################################################################## ############################################################################## ### ### Running command: ### ### /home/biocbuild/bbs-3.11-bioc/R/bin/R CMD build --keep-empty-dirs --no-resave-data DeSousa2013 ### ############################################################################## ############################################################################## * checking for file ‘DeSousa2013/DESCRIPTION’ ... OK * preparing ‘DeSousa2013’: * checking DESCRIPTION meta-information ... OK * installing the package to build vignettes * creating vignettes ... OK * checking for LF line-endings in source and make files and shell scripts * checking for empty or unneeded directories * looking to see if a ‘data/datalist’ file should be added * building ‘DeSousa2013_1.24.0.tar.gz’