Back to Build/check report for BioC 3.11 experimental data |
This page was generated on 2020-10-15 20:45:45 -0400 (Thu, 15 Oct 2020).
TO THE DEVELOPERS/MAINTAINERS OF THE CellMapperData PACKAGE: Please make sure to use the following settings in order to reproduce any error or warning you see on this page. |
Package 50/391 | Hostname | OS / Arch | INSTALL | BUILD | CHECK | ||||||
CellMapperData 1.14.0 Brad Nelms
| malbec2 | Linux (Ubuntu 18.04.4 LTS) / x86_64 | [ OK ] | OK | OK |
Package: CellMapperData |
Version: 1.14.0 |
Command: /home/biocbuild/bbs-3.11-bioc/R/bin/R CMD INSTALL CellMapperData |
StartedAt: 2020-10-15 09:31:25 -0400 (Thu, 15 Oct 2020) |
EndedAt: 2020-10-15 09:31:38 -0400 (Thu, 15 Oct 2020) |
EllapsedTime: 13.4 seconds |
RetCode: 0 |
Status: OK |
############################################################################## ############################################################################## ### ### Running command: ### ### /home/biocbuild/bbs-3.11-bioc/R/bin/R CMD INSTALL CellMapperData ### ############################################################################## ############################################################################## * installing to library ‘/home/biocbuild/bbs-3.11-bioc/R/library’ * installing *source* package ‘CellMapperData’ ... ** using staged installation ** inst ** help *** installing help indices ** building package indices ** installing vignettes ** testing if installed package can be loaded from temporary location Warning: replacing previous import ‘stats::sd’ by ‘S4Vectors::sd’ when loading ‘CellMapper’ Warning: replacing previous import ‘stats::var’ by ‘S4Vectors::var’ when loading ‘CellMapper’ ** testing if installed package can be loaded from final location Warning: replacing previous import ‘stats::sd’ by ‘S4Vectors::sd’ when loading ‘CellMapper’ Warning: replacing previous import ‘stats::var’ by ‘S4Vectors::var’ when loading ‘CellMapper’ ** testing if installed package keeps a record of temporary installation path * DONE (CellMapperData)