| Back to Build/check report for BioC 3.11 experimental data |
This page was generated on 2020-10-15 20:45:44 -0400 (Thu, 15 Oct 2020).
| TO THE DEVELOPERS/MAINTAINERS OF THE ASICSdata PACKAGE: Please make sure to use the following settings in order to reproduce any error or warning you see on this page. |
| Package 20/391 | Hostname | OS / Arch | INSTALL | BUILD | CHECK | ||||||
| ASICSdata 1.8.0 Gaëlle Lefort
| malbec2 | Linux (Ubuntu 18.04.4 LTS) / x86_64 | OK | [ OK ] | OK |
| Package: ASICSdata |
| Version: 1.8.0 |
| Command: /home/biocbuild/bbs-3.11-bioc/R/bin/R CMD build --keep-empty-dirs --no-resave-data ASICSdata |
| StartedAt: 2020-10-15 09:48:34 -0400 (Thu, 15 Oct 2020) |
| EndedAt: 2020-10-15 09:48:58 -0400 (Thu, 15 Oct 2020) |
| EllapsedTime: 24.0 seconds |
| RetCode: 0 |
| Status: OK |
| PackageFile: ASICSdata_1.8.0.tar.gz |
| PackageFileSize: 22.05 MiB |
############################################################################## ############################################################################## ### ### Running command: ### ### /home/biocbuild/bbs-3.11-bioc/R/bin/R CMD build --keep-empty-dirs --no-resave-data ASICSdata ### ############################################################################## ############################################################################## * checking for file ‘ASICSdata/DESCRIPTION’ ... OK * preparing ‘ASICSdata’: * checking DESCRIPTION meta-information ... OK * installing the package to build vignettes * creating vignettes ... OK * checking for LF line-endings in source and make files and shell scripts * checking for empty or unneeded directories * building ‘ASICSdata_1.8.0.tar.gz’