Back to "Blame Jeroen" build/check report for BioC 3.11 |
This page was generated on 2020-04-15 03:20:09 -0400 (Wed, 15 Apr 2020).
These builds are using Rtools40 and R-testing by Jeroen Ooms (available at https://cran.r-project.org/bin/windows/testing/rtools40.html) |
TO THE DEVELOPERS/MAINTAINERS OF THE widgetTools PACKAGE: Please make sure to use the following settings in order to reproduce any error or warning you see on this page. |
Package 87/89 | Hostname | OS / Arch | INSTALL | BUILD | CHECK | BUILD BIN | |||||
widgetTools 1.65.0 Jianhua Zhang
| tokay2 | Windows Server 2012 R2 Standard / x64 | [ OK ] | OK | OK | OK |
Package: widgetTools |
Version: 1.65.0 |
Command: C:\cygwin\bin\curl.exe -O https://malbec2.bioconductor.org/BBS/3.11/bioc-testing/src/contrib/widgetTools_1.65.0.tar.gz && rm -rf widgetTools.buildbin-libdir && mkdir widgetTools.buildbin-libdir && C:\Users\bioctesting\bbs-3.11-bioc-testing\R\bin\R.exe CMD INSTALL --merge-multiarch --build --library=widgetTools.buildbin-libdir widgetTools_1.65.0.tar.gz && C:\Users\bioctesting\bbs-3.11-bioc-testing\R\bin\R.exe CMD INSTALL widgetTools_1.65.0.zip && rm widgetTools_1.65.0.tar.gz widgetTools_1.65.0.zip |
StartedAt: 2020-04-14 17:37:38 -0400 (Tue, 14 Apr 2020) |
EndedAt: 2020-04-14 17:37:53 -0400 (Tue, 14 Apr 2020) |
EllapsedTime: 15.0 seconds |
RetCode: 0 |
Status: OK |
############################################################################## ############################################################################## ### ### Running command: ### ### C:\cygwin\bin\curl.exe -O https://malbec2.bioconductor.org/BBS/3.11/bioc-testing/src/contrib/widgetTools_1.65.0.tar.gz && rm -rf widgetTools.buildbin-libdir && mkdir widgetTools.buildbin-libdir && C:\Users\bioctesting\bbs-3.11-bioc-testing\R\bin\R.exe CMD INSTALL --merge-multiarch --build --library=widgetTools.buildbin-libdir widgetTools_1.65.0.tar.gz && C:\Users\bioctesting\bbs-3.11-bioc-testing\R\bin\R.exe CMD INSTALL widgetTools_1.65.0.zip && rm widgetTools_1.65.0.tar.gz widgetTools_1.65.0.zip ### ############################################################################## ############################################################################## % Total % Received % Xferd Average Speed Time Time Time Current Dload Upload Total Spent Left Speed 0 0 0 0 0 0 0 0 --:--:-- --:--:-- --:--:-- 0 100 34986 100 34986 0 0 707k 0 --:--:-- --:--:-- --:--:-- 833k install for i386 * installing *source* package 'widgetTools' ... ** using staged installation ** R ** byte-compile and prepare package for lazy loading ** help *** installing help indices converting help for package 'widgetTools' finding HTML links ... done basicPW-class html button html dropdownList html makeViewer html oneVScrList html safeFileOpen html tooltip html widget-class html widgetView-class html writeText html ** building package indices ** installing vignettes ** testing if installed package can be loaded from temporary location ** testing if installed package can be loaded from final location ** testing if installed package keeps a record of temporary installation path install for x64 * installing *source* package 'widgetTools' ... ** testing if installed package can be loaded * MD5 sums packaged installation of 'widgetTools' as widgetTools_1.65.0.zip * DONE (widgetTools) * installing to library 'C:/Users/bioctesting/bbs-3.11-bioc-testing/R/library' package 'widgetTools' successfully unpacked and MD5 sums checked