Back to "Blame Jeroen" build/check report for BioC 3.11 |
This page was generated on 2020-04-15 03:20:10 -0400 (Wed, 15 Apr 2020).
These builds are using Rtools40 and R-testing by Jeroen Ooms (available at https://cran.r-project.org/bin/windows/testing/rtools40.html) |
TO THE DEVELOPERS/MAINTAINERS OF THE rtracklayer PACKAGE: Please make sure to use the following settings in order to reproduce any error or warning you see on this page. |
Package 75/89 | Hostname | OS / Arch | INSTALL | BUILD | CHECK | BUILD BIN | |||||
rtracklayer 1.47.0 Michael Lawrence
| tokay2 | Windows Server 2012 R2 Standard / x64 | OK | [ OK ] | WARNINGS | OK |
Package: rtracklayer |
Version: 1.47.0 |
Command: chmod a+r rtracklayer -R && C:\Users\bioctesting\bbs-3.11-bioc-testing\R\bin\R.exe CMD build --keep-empty-dirs --no-resave-data rtracklayer |
StartedAt: 2020-04-14 18:53:09 -0400 (Tue, 14 Apr 2020) |
EndedAt: 2020-04-14 18:55:22 -0400 (Tue, 14 Apr 2020) |
EllapsedTime: 133.9 seconds |
RetCode: 0 |
Status: OK |
PackageFile: rtracklayer_1.47.0.tar.gz |
PackageFileSize: 3.828 MiB |
############################################################################## ############################################################################## ### ### Running command: ### ### chmod a+r rtracklayer -R && C:\Users\bioctesting\bbs-3.11-bioc-testing\R\bin\R.exe CMD build --keep-empty-dirs --no-resave-data rtracklayer ### ############################################################################## ############################################################################## * checking for file 'rtracklayer/DESCRIPTION' ... OK * preparing 'rtracklayer': * checking DESCRIPTION meta-information ... OK * cleaning src * installing the package to build vignettes * creating vignettes ... OK * cleaning src * checking for LF line-endings in source and make files and shell scripts * checking for empty or unneeded directories * looking to see if a 'data/datalist' file should be added * building 'rtracklayer_1.47.0.tar.gz' Warning: file 'rtracklayer/configure' did not have execute permissions: corrected