| Back to Multiple platform build/check report for BioC 3.11 (small subset of software packages ONLY) |
This page was generated on 2020-01-24 03:57:03 -0500 (Fri, 24 Jan 2020).
| Package 29/41 | Hostname | OS / Arch | INSTALL | BUILD | CHECK | BUILD BIN | |||||
| preprocessCore 1.49.0 Ben Bolstad
| malbec2 | Linux (Ubuntu 18.04.3 LTS) / x86_64 | OK | [ OK ] | WARNINGS | ||||||
| tokay2 | Windows Server 2012 R2 Standard / x64 | OK | OK | OK | OK |
| Package: preprocessCore |
| Version: 1.49.0 |
| Command: /home/biocbuild/bbs-3.11-bioc/R/bin/R CMD build --keep-empty-dirs --no-resave-data preprocessCore |
| StartedAt: 2020-01-24 02:36:24 -0500 (Fri, 24 Jan 2020) |
| EndedAt: 2020-01-24 02:36:25 -0500 (Fri, 24 Jan 2020) |
| EllapsedTime: 1.0 seconds |
| RetCode: 0 |
| Status: OK |
| PackageFile: preprocessCore_1.49.0.tar.gz |
| PackageFileSize: 120.2 KiB |
############################################################################## ############################################################################## ### ### Running command: ### ### /home/biocbuild/bbs-3.11-bioc/R/bin/R CMD build --keep-empty-dirs --no-resave-data preprocessCore ### ############################################################################## ############################################################################## * checking for file ‘preprocessCore/DESCRIPTION’ ... OK * preparing ‘preprocessCore’: * checking DESCRIPTION meta-information ... OK * cleaning src * running ‘cleanup’ * checking for LF line-endings in source and make files and shell scripts * checking for empty or unneeded directories * building ‘preprocessCore_1.49.0.tar.gz’