Back to "Blame Jeroen" build/check report for BioC 3.11 |
This page was generated on 2020-04-14 03:20:20 -0400 (Tue, 14 Apr 2020).
These builds are using Rtools40 and R-testing by Jeroen Ooms (available at https://cran.r-project.org/bin/windows/testing/rtools40.html) |
TO THE DEVELOPERS/MAINTAINERS OF THE pcaMethods PACKAGE: Please make sure to use the following settings in order to reproduce any error or warning you see on this page. |
Package 61/89 | Hostname | OS / Arch | INSTALL | BUILD | CHECK | BUILD BIN | |||||
pcaMethods 1.79.1 Henning Redestig
| tokay2 | Windows Server 2012 R2 Standard / x64 | OK | OK | OK | [ OK ] |
Package: pcaMethods |
Version: 1.79.1 |
Command: rm -rf pcaMethods.buildbin-libdir && mkdir pcaMethods.buildbin-libdir && C:\Users\bioctesting\bbs-3.11-bioc-testing\R\bin\R.exe CMD INSTALL --merge-multiarch --build --library=pcaMethods.buildbin-libdir pcaMethods_1.79.1.tar.gz |
StartedAt: 2020-04-14 01:29:47 -0400 (Tue, 14 Apr 2020) |
EndedAt: 2020-04-14 01:30:32 -0400 (Tue, 14 Apr 2020) |
EllapsedTime: 45.2 seconds |
RetCode: 0 |
Status: OK |
PackageFile: pcaMethods_1.79.1.zip |
PackageFileSize: 1.9 MiB |
############################################################################## ############################################################################## ### ### Running command: ### ### rm -rf pcaMethods.buildbin-libdir && mkdir pcaMethods.buildbin-libdir && C:\Users\bioctesting\bbs-3.11-bioc-testing\R\bin\R.exe CMD INSTALL --merge-multiarch --build --library=pcaMethods.buildbin-libdir pcaMethods_1.79.1.tar.gz ### ############################################################################## ############################################################################## install for i386 * installing *source* package 'pcaMethods' ... ** using staged installation ** libs /mingw32/bin/g++ -std=gnu++11 -I"C:/Users/BIOCTE~1/BBS-3~1.11-/R/include" -DNDEBUG -I'C:/Users/bioctesting/bbs-3.11-bioc-testing/R/library/Rcpp/include' -I"C:/extsoft/include" -O2 -Wall -mfpmath=sse -msse2 -mstackrealign -c RcppExports.cpp -o RcppExports.o /mingw32/bin/g++ -std=gnu++11 -I"C:/Users/BIOCTE~1/BBS-3~1.11-/R/include" -DNDEBUG -I'C:/Users/bioctesting/bbs-3.11-bioc-testing/R/library/Rcpp/include' -I"C:/extsoft/include" -O2 -Wall -mfpmath=sse -msse2 -mstackrealign -c nipals.cpp -o nipals.o /mingw32/bin/g++ -std=gnu++11 -shared -s -static-libgcc -o pcaMethods.dll tmp.def RcppExports.o nipals.o -LC:/extsoft/lib/i386 -LC:/extsoft/lib -LC:/Users/BIOCTE~1/BBS-3~1.11-/R/bin/i386 -lR installing to C:/Users/bioctesting/bbs-3.11-bioc-testing/meat/pcaMethods.buildbin-libdir/00LOCK-pcaMethods/00new/pcaMethods/libs/i386 ** R ** data ** inst ** byte-compile and prepare package for lazy loading Creating a new generic function for 'loadings' in package 'pcaMethods' ** help *** installing help indices converting help for package 'pcaMethods' finding HTML links ... done BPCA_dostep html BPCA_initmodel html DModX-pcaRes-method html Q2 html R2VX-pcaRes-method html R2cum-pcaRes-method html RnipalsPca html asExprSet html biplot-methods html bpca html center-pcaRes-method html centered-pcaRes-method html checkData html completeObs-nniRes-method html cvseg html cvstat-pcaRes-method html deletediagonals html derrorHierarchic html dim.pcaRes html errorHierarchic html fitted-methods html forkNlpcaNet html getHierarchicIdx html helix html kEstimate html kEstimateFast html leverage-pcaRes-method html lineSearch html linr html listPcaMethods html llsImpute html loadings-ANY-method html loadings-pcaRes-method html loadings.pcaRes html metaboliteData html metaboliteDataComplete html method-pcaRes-method html nObs-pcaRes-method html nP-pcaRes-method html nPcs-pcaRes-method html nVar-pcaRes-method html nipalsPca html nlpca html nmissing-pcaRes-method html nni html nniRes html optiAlgCgd html orth html pca html pcaMethods-deprecated html pcaMethods html pcaNet html pcaRes html plot.pcaRes html plotPcs html ppca html predict-methods html prep html rediduals-methods html repmat html robustPca html robustSvd html sDev-pcaRes-method html scaled-pcaRes-method html scl-pcaRes-method html scores-pcaRes-method html scores.pcaRes html show-methods html showNniRes html simpleEllipse html slplot-pcaRes-method html sortFeatures html summary html svdImpute html svdPca html tempFixNas html vector2matrices-matrix-method html vector2matrices-nlpcaNet-method html wasna-pcaRes-method html weightsAccount html ** building package indices ** installing vignettes ** testing if installed package can be loaded from temporary location ** testing if installed package can be loaded from final location ** testing if installed package keeps a record of temporary installation path install for x64 * installing *source* package 'pcaMethods' ... ** libs /mingw64/bin/g++ -std=gnu++11 -I"C:/Users/BIOCTE~1/BBS-3~1.11-/R/include" -DNDEBUG -I'C:/Users/bioctesting/bbs-3.11-bioc-testing/R/library/Rcpp/include' -I"C:/extsoft/include" -O2 -Wall -mfpmath=sse -msse2 -mstackrealign -c RcppExports.cpp -o RcppExports.o /mingw64/bin/g++ -std=gnu++11 -I"C:/Users/BIOCTE~1/BBS-3~1.11-/R/include" -DNDEBUG -I'C:/Users/bioctesting/bbs-3.11-bioc-testing/R/library/Rcpp/include' -I"C:/extsoft/include" -O2 -Wall -mfpmath=sse -msse2 -mstackrealign -c nipals.cpp -o nipals.o /mingw64/bin/g++ -std=gnu++11 -shared -s -static-libgcc -o pcaMethods.dll tmp.def RcppExports.o nipals.o -LC:/extsoft/lib/x64 -LC:/extsoft/lib -LC:/Users/BIOCTE~1/BBS-3~1.11-/R/bin/x64 -lR installing to C:/Users/bioctesting/bbs-3.11-bioc-testing/meat/pcaMethods.buildbin-libdir/pcaMethods/libs/x64 ** testing if installed package can be loaded * MD5 sums packaged installation of 'pcaMethods' as pcaMethods_1.79.1.zip * DONE (pcaMethods)