Back to "Blame Jeroen" build/check report for BioC 3.11 |
This page was generated on 2020-04-15 03:20:15 -0400 (Wed, 15 Apr 2020).
These builds are using Rtools40 and R-testing by Jeroen Ooms (available at https://cran.r-project.org/bin/windows/testing/rtools40.html) |
TO THE DEVELOPERS/MAINTAINERS OF THE mzR PACKAGE: Please make sure to use the following settings in order to reproduce any error or warning you see on this page. |
Package 58/89 | Hostname | OS / Arch | INSTALL | BUILD | CHECK | BUILD BIN | |||||
mzR 2.21.1 Steffen Neumann
| tokay2 | Windows Server 2012 R2 Standard / x64 | OK | [ OK ] | WARNINGS | OK |
Package: mzR |
Version: 2.21.1 |
Command: chmod a+r mzR -R && C:\Users\bioctesting\bbs-3.11-bioc-testing\R\bin\R.exe CMD build --keep-empty-dirs --no-resave-data mzR |
StartedAt: 2020-04-14 20:10:28 -0400 (Tue, 14 Apr 2020) |
EndedAt: 2020-04-14 20:32:08 -0400 (Tue, 14 Apr 2020) |
EllapsedTime: 1299.3 seconds |
RetCode: 0 |
Status: OK |
PackageFile: mzR_2.21.1.tar.gz |
PackageFileSize: 8.377 MiB |
############################################################################## ############################################################################## ### ### Running command: ### ### chmod a+r mzR -R && C:\Users\bioctesting\bbs-3.11-bioc-testing\R\bin\R.exe CMD build --keep-empty-dirs --no-resave-data mzR ### ############################################################################## ############################################################################## * checking for file 'mzR/DESCRIPTION' ... OK * preparing 'mzR': * checking DESCRIPTION meta-information ... OK * cleaning src * installing the package to build vignettes * creating vignettes ... OK * cleaning src * checking for LF line-endings in source and make files and shell scripts * checking for empty or unneeded directories * building 'mzR_2.21.1.tar.gz' Warning: file 'mzR/cleanup' did not have execute permissions: corrected Warning: file 'mzR/configure' did not have execute permissions: corrected