Back to "Blame Jeroen" build/check report for BioC 3.11

BUILD report for multtest on tokay2

This page was generated on 2020-04-15 03:20:11 -0400 (Wed, 15 Apr 2020).

These builds are using Rtools40 and R-testing by Jeroen Ooms (available at https://cran.r-project.org/bin/windows/testing/rtools40.html)
TO THE DEVELOPERS/MAINTAINERS OF THE multtest PACKAGE: Please make sure to use the following settings in order to reproduce any error or warning you see on this page.
Package 56/89HostnameOS / ArchINSTALLBUILDCHECKBUILD BIN
multtest 2.43.1
Katherine S. Pollard
Snapshot Date: 2020-04-14 17:00:05 -0400 (Tue, 14 Apr 2020)
URL: https://git.bioconductor.org/packages/multtest
Branch: master
Last Commit: 4a258ec
Last Changed Date: 2020-03-11 20:07:02 -0400 (Wed, 11 Mar 2020)
tokay2 Windows Server 2012 R2 Standard / x64  OK [ OK ] WARNINGS  OK 

Summary

Package: multtest
Version: 2.43.1
Command: chmod a+r multtest -R && C:\Users\bioctesting\bbs-3.11-bioc-testing\R\bin\R.exe CMD build --keep-empty-dirs --no-resave-data multtest
StartedAt: 2020-04-14 19:13:07 -0400 (Tue, 14 Apr 2020)
EndedAt: 2020-04-14 19:13:20 -0400 (Tue, 14 Apr 2020)
EllapsedTime: 12.6 seconds
RetCode: 0
Status:  OK  
PackageFile: multtest_2.43.1.tar.gz
PackageFileSize: 1.234 MiB

Command output

##############################################################################
##############################################################################
###
### Running command:
###
###   chmod a+r multtest -R && C:\Users\bioctesting\bbs-3.11-bioc-testing\R\bin\R.exe CMD build --keep-empty-dirs --no-resave-data multtest
###
##############################################################################
##############################################################################


* checking for file 'multtest/DESCRIPTION' ... OK
* preparing 'multtest':
* checking DESCRIPTION meta-information ... OK
* cleaning src
* checking for LF line-endings in source and make files and shell scripts
* checking for empty or unneeded directories
* looking to see if a 'data/datalist' file should be added
* building 'multtest_2.43.1.tar.gz'