| Back to "Blame Jeroen" build/check report for BioC 3.11 |
This page was generated on 2020-04-15 03:20:11 -0400 (Wed, 15 Apr 2020).
| These builds are using Rtools40 and R-testing by Jeroen Ooms (available at https://cran.r-project.org/bin/windows/testing/rtools40.html) |
| TO THE DEVELOPERS/MAINTAINERS OF THE impute PACKAGE: Please make sure to use the following settings in order to reproduce any error or warning you see on this page. |
| Package 49/89 | Hostname | OS / Arch | INSTALL | BUILD | CHECK | BUILD BIN | |||||
| impute 1.61.0 Balasubramanian Narasimhan
| tokay2 | Windows Server 2012 R2 Standard / x64 | [ OK ] | OK | OK | OK |
| Package: impute |
| Version: 1.61.0 |
| Command: C:\cygwin\bin\curl.exe -O https://malbec2.bioconductor.org/BBS/3.11/bioc-testing/src/contrib/impute_1.61.0.tar.gz && rm -rf impute.buildbin-libdir && mkdir impute.buildbin-libdir && C:\Users\bioctesting\bbs-3.11-bioc-testing\R\bin\R.exe CMD INSTALL --merge-multiarch --build --library=impute.buildbin-libdir impute_1.61.0.tar.gz && C:\Users\bioctesting\bbs-3.11-bioc-testing\R\bin\R.exe CMD INSTALL impute_1.61.0.zip && rm impute_1.61.0.tar.gz impute_1.61.0.zip |
| StartedAt: 2020-04-14 17:30:33 -0400 (Tue, 14 Apr 2020) |
| EndedAt: 2020-04-14 17:30:43 -0400 (Tue, 14 Apr 2020) |
| EllapsedTime: 10.0 seconds |
| RetCode: 0 |
| Status: OK |
##############################################################################
##############################################################################
###
### Running command:
###
### C:\cygwin\bin\curl.exe -O https://malbec2.bioconductor.org/BBS/3.11/bioc-testing/src/contrib/impute_1.61.0.tar.gz && rm -rf impute.buildbin-libdir && mkdir impute.buildbin-libdir && C:\Users\bioctesting\bbs-3.11-bioc-testing\R\bin\R.exe CMD INSTALL --merge-multiarch --build --library=impute.buildbin-libdir impute_1.61.0.tar.gz && C:\Users\bioctesting\bbs-3.11-bioc-testing\R\bin\R.exe CMD INSTALL impute_1.61.0.zip && rm impute_1.61.0.tar.gz impute_1.61.0.zip
###
##############################################################################
##############################################################################
% Total % Received % Xferd Average Speed Time Time Time Current
Dload Upload Total Spent Left Speed
0 0 0 0 0 0 0 0 --:--:-- --:--:-- --:--:-- 0
99 625k 99 624k 0 0 8792k 0 --:--:-- --:--:-- --:--:-- 9750k
100 625k 100 625k 0 0 8755k 0 --:--:-- --:--:-- --:--:-- 9766k
install for i386
* installing *source* package 'impute' ...
** using staged installation
** libs
/mingw32/bin/gfortran -fno-optimize-sibling-calls -O2 -mfpmath=sse -msse2 -mstackrealign -c knnimpute.f -o knnimpute.o
/mingw32/bin/gcc -shared -s -static-libgcc -o impute.dll tmp.def knnimpute.o -LC:/extsoft/lib/i386 -LC:/extsoft/lib -lgfortran -lm -lquadmath -LC:/Users/BIOCTE~1/BBS-3~1.11-/R/bin/i386 -lR
installing to C:/Users/bioctesting/bbs-3.11-bioc-testing/meat/impute.buildbin-libdir/00LOCK-impute/00new/impute/libs/i386
** R
** data
** byte-compile and prepare package for lazy loading
** help
*** installing help indices
converting help for package 'impute'
finding HTML links ... done
impute.knn html
khanmiss html
** building package indices
** testing if installed package can be loaded from temporary location
** testing if installed package can be loaded from final location
** testing if installed package keeps a record of temporary installation path
install for x64
* installing *source* package 'impute' ...
** libs
/mingw64/bin/gfortran -fno-optimize-sibling-calls -O2 -mfpmath=sse -msse2 -mstackrealign -c knnimpute.f -o knnimpute.o
/mingw64/bin/gcc -shared -s -static-libgcc -o impute.dll tmp.def knnimpute.o -LC:/extsoft/lib/x64 -LC:/extsoft/lib -lgfortran -lm -lquadmath -LC:/Users/BIOCTE~1/BBS-3~1.11-/R/bin/x64 -lR
installing to C:/Users/bioctesting/bbs-3.11-bioc-testing/meat/impute.buildbin-libdir/impute/libs/x64
** testing if installed package can be loaded
* MD5 sums
packaged installation of 'impute' as impute_1.61.0.zip
* DONE (impute)
* installing to library 'C:/Users/bioctesting/bbs-3.11-bioc-testing/R/library'
package 'impute' successfully unpacked and MD5 sums checked