Back to "Blame Jeroen" build/check report for BioC 3.11

BUILD report for gdsfmt on tokay2

This page was generated on 2020-04-15 03:20:11 -0400 (Wed, 15 Apr 2020).

These builds are using Rtools40 and R-testing by Jeroen Ooms (available at https://cran.r-project.org/bin/windows/testing/rtools40.html)
TO THE DEVELOPERS/MAINTAINERS OF THE gdsfmt PACKAGE: Please make sure to use the following settings in order to reproduce any error or warning you see on this page.
Package 37/89HostnameOS / ArchINSTALLBUILDCHECKBUILD BIN
gdsfmt 1.23.11
Xiuwen Zheng
Snapshot Date: 2020-04-14 17:00:05 -0400 (Tue, 14 Apr 2020)
URL: https://git.bioconductor.org/packages/gdsfmt
Branch: master
Last Commit: 25c019b
Last Changed Date: 2020-04-13 18:14:18 -0400 (Mon, 13 Apr 2020)
tokay2 Windows Server 2012 R2 Standard / x64  OK [ OK ] OK  OK 

Summary

Package: gdsfmt
Version: 1.23.11
Command: chmod a+r gdsfmt -R && C:\Users\bioctesting\bbs-3.11-bioc-testing\R\bin\R.exe CMD build --keep-empty-dirs --no-resave-data gdsfmt
StartedAt: 2020-04-14 19:00:45 -0400 (Tue, 14 Apr 2020)
EndedAt: 2020-04-14 19:05:07 -0400 (Tue, 14 Apr 2020)
EllapsedTime: 262.1 seconds
RetCode: 0
Status:  OK  
PackageFile: gdsfmt_1.23.11.tar.gz
PackageFileSize: 2.659 MiB

Command output

##############################################################################
##############################################################################
###
### Running command:
###
###   chmod a+r gdsfmt -R && C:\Users\bioctesting\bbs-3.11-bioc-testing\R\bin\R.exe CMD build --keep-empty-dirs --no-resave-data gdsfmt
###
##############################################################################
##############################################################################


* checking for file 'gdsfmt/DESCRIPTION' ... OK
* preparing 'gdsfmt':
* checking DESCRIPTION meta-information ... OK
* cleaning src
* installing the package to build vignettes
* creating vignettes ... OK
* cleaning src
* checking for LF line-endings in source and make files and shell scripts
* checking for empty or unneeded directories
WARNING: directory 'gdsfmt/src/XZ/__MACOSX/xz-5.2.4/i386' is empty
WARNING: directory 'gdsfmt/src/XZ/__MACOSX/xz-5.2.4/x64' is empty
* building 'gdsfmt_1.23.11.tar.gz'