Back to "Blame Jeroen" build/check report for BioC 3.11

INSTALL report for flowCore on tokay2

This page was generated on 2020-04-15 03:20:15 -0400 (Wed, 15 Apr 2020).

These builds are using Rtools40 and R-testing by Jeroen Ooms (available at https://cran.r-project.org/bin/windows/testing/rtools40.html)
TO THE DEVELOPERS/MAINTAINERS OF THE flowCore PACKAGE: Please make sure to use the following settings in order to reproduce any error or warning you see on this page.
Package 36/89HostnameOS / ArchINSTALLBUILDCHECKBUILD BIN
flowCore 1.99.20
Mike Jiang
Snapshot Date: 2020-04-14 17:00:05 -0400 (Tue, 14 Apr 2020)
URL: https://git.bioconductor.org/packages/flowCore
Branch: master
Last Commit: 1beb6d5
Last Changed Date: 2020-04-08 23:52:44 -0400 (Wed, 08 Apr 2020)
tokay2 Windows Server 2012 R2 Standard / x64 [ ERROR ] ERROR  skipped  skipped 

Summary

Package: flowCore
Version: 1.99.20
Command: C:\cygwin\bin\curl.exe -O https://malbec2.bioconductor.org/BBS/3.11/bioc-testing/src/contrib/flowCore_1.99.20.tar.gz && rm -rf flowCore.buildbin-libdir && mkdir flowCore.buildbin-libdir && C:\Users\bioctesting\bbs-3.11-bioc-testing\R\bin\R.exe CMD INSTALL --merge-multiarch --build --library=flowCore.buildbin-libdir flowCore_1.99.20.tar.gz && C:\Users\bioctesting\bbs-3.11-bioc-testing\R\bin\R.exe CMD INSTALL flowCore_1.99.20.zip && rm flowCore_1.99.20.tar.gz flowCore_1.99.20.zip
StartedAt: 2020-04-14 17:50:28 -0400 (Tue, 14 Apr 2020)
EndedAt: 2020-04-14 17:50:31 -0400 (Tue, 14 Apr 2020)
EllapsedTime: 3.0 seconds
RetCode: 1
Status:  ERROR  

Command output

##############################################################################
##############################################################################
###
### Running command:
###
###   C:\cygwin\bin\curl.exe -O https://malbec2.bioconductor.org/BBS/3.11/bioc-testing/src/contrib/flowCore_1.99.20.tar.gz && rm -rf flowCore.buildbin-libdir && mkdir flowCore.buildbin-libdir && C:\Users\bioctesting\bbs-3.11-bioc-testing\R\bin\R.exe CMD INSTALL --merge-multiarch --build --library=flowCore.buildbin-libdir flowCore_1.99.20.tar.gz && C:\Users\bioctesting\bbs-3.11-bioc-testing\R\bin\R.exe CMD INSTALL flowCore_1.99.20.zip && rm flowCore_1.99.20.tar.gz flowCore_1.99.20.zip
###
##############################################################################
##############################################################################


  % Total    % Received % Xferd  Average Speed   Time    Time     Time  Current
                                 Dload  Upload   Total   Spent    Left  Speed

  0     0    0     0    0     0      0      0 --:--:-- --:--:-- --:--:--     0
100 8833k  100 8833k    0     0  70.6M      0 --:--:-- --:--:-- --:--:-- 74.3M

install for i386

ERROR: dependency 'cytolib' is not available for package 'flowCore'
* removing 'C:/Users/bioctesting/bbs-3.11-bioc-testing/meat/flowCore.buildbin-libdir/flowCore'