Back to "Blame Jeroen" build/check report for BioC 3.11

BUILD BIN report for basilisk on tokay2

This page was generated on 2020-04-15 03:20:15 -0400 (Wed, 15 Apr 2020).

These builds are using Rtools40 and R-testing by Jeroen Ooms (available at https://cran.r-project.org/bin/windows/testing/rtools40.html)
TO THE DEVELOPERS/MAINTAINERS OF THE basilisk PACKAGE: Please make sure to use the following settings in order to reproduce any error or warning you see on this page.
Package 10/89HostnameOS / ArchINSTALLBUILDCHECKBUILD BIN
basilisk 0.99.61
Aaron Lun
Snapshot Date: 2020-04-14 17:00:05 -0400 (Tue, 14 Apr 2020)
URL: https://git.bioconductor.org/packages/basilisk
Branch: master
Last Commit: 3a35b0b
Last Changed Date: 2020-04-14 02:50:12 -0400 (Tue, 14 Apr 2020)
tokay2 Windows Server 2012 R2 Standard / x64  OK  OK  ERROR [ OK ]

Summary

Package: basilisk
Version: 0.99.61
Command: rm -rf basilisk.buildbin-libdir && mkdir basilisk.buildbin-libdir && C:\Users\bioctesting\bbs-3.11-bioc-testing\R\bin\R.exe --arch x64 CMD INSTALL --no-multiarch --build --library=basilisk.buildbin-libdir basilisk_0.99.61.tar.gz
StartedAt: 2020-04-15 00:11:06 -0400 (Wed, 15 Apr 2020)
EndedAt: 2020-04-15 00:11:13 -0400 (Wed, 15 Apr 2020)
EllapsedTime: 7.5 seconds
RetCode: 0
Status:  OK  
PackageFile: basilisk_0.99.61.zip
PackageFileSize: 304.2 KiB

Command output

##############################################################################
##############################################################################
###
### Running command:
###
###   rm -rf basilisk.buildbin-libdir && mkdir basilisk.buildbin-libdir && C:\Users\bioctesting\bbs-3.11-bioc-testing\R\bin\R.exe --arch x64 CMD INSTALL --no-multiarch --build --library=basilisk.buildbin-libdir basilisk_0.99.61.tar.gz
###
##############################################################################
##############################################################################


* installing *source* package 'basilisk' ...
** using non-staged installation via StagedInstall field
** R
** inst
** byte-compile and prepare package for lazy loading
** help
*** installing help indices
  converting help for package 'basilisk'
    finding HTML links ... done
    BasiliskEnvironment-class               html  
    PyPiLink                                html  
    basiliskOptions                         html  
    basiliskStart                           html  
    configureBasiliskEnv                    html  
    findPersistentEnv                       html  
    listCorePackages                        html  
    setupBasiliskEnv                        html  
    useBasiliskEnv                          html  
    finding level-2 HTML links ... done

** building package indices
** installing vignettes
** testing if installed package can be loaded
* MD5 sums
packaged installation of 'basilisk' as basilisk_0.99.61.zip
* DONE (basilisk)