| Back to Multiple platform build/check report for BioC 3.11 (small subset of software packages ONLY) |
This page was generated on 2020-01-24 03:57:02 -0500 (Fri, 24 Jan 2020).
| Package 40/41 | Hostname | OS / Arch | INSTALL | BUILD | CHECK | BUILD BIN | |||||
| XVector 0.27.0 Hervé Pagès
| malbec2 | Linux (Ubuntu 18.04.3 LTS) / x86_64 | OK | [ OK ] | WARNINGS | ||||||
| tokay2 | Windows Server 2012 R2 Standard / x64 | OK | OK | WARNINGS | OK |
| Package: XVector |
| Version: 0.27.0 |
| Command: /home/biocbuild/bbs-3.11-bioc/R/bin/R CMD build --keep-empty-dirs --no-resave-data XVector |
| StartedAt: 2020-01-24 02:18:16 -0500 (Fri, 24 Jan 2020) |
| EndedAt: 2020-01-24 02:18:17 -0500 (Fri, 24 Jan 2020) |
| EllapsedTime: 1.0 seconds |
| RetCode: 0 |
| Status: OK |
| PackageFile: XVector_0.27.0.tar.gz |
| PackageFileSize: 64.47 KiB |
############################################################################## ############################################################################## ### ### Running command: ### ### /home/biocbuild/bbs-3.11-bioc/R/bin/R CMD build --keep-empty-dirs --no-resave-data XVector ### ############################################################################## ############################################################################## * checking for file ‘XVector/DESCRIPTION’ ... OK * preparing ‘XVector’: * checking DESCRIPTION meta-information ... OK * cleaning src * checking for LF line-endings in source and make files and shell scripts * checking for empty or unneeded directories * building ‘XVector_0.27.0.tar.gz’