Back to "Blame Jeroen" build/check report for BioC 3.11

BUILD report for SummarizedExperiment on tokay2

This page was generated on 2020-04-15 03:20:10 -0400 (Wed, 15 Apr 2020).

These builds are using Rtools40 and R-testing by Jeroen Ooms (available at https://cran.r-project.org/bin/windows/testing/rtools40.html)
TO THE DEVELOPERS/MAINTAINERS OF THE SummarizedExperiment PACKAGE: Please make sure to use the following settings in order to reproduce any error or warning you see on this page.
Package 81/89HostnameOS / ArchINSTALLBUILDCHECKBUILD BIN
SummarizedExperiment 1.17.5
Bioconductor Package Maintainer
Snapshot Date: 2020-04-14 17:00:05 -0400 (Tue, 14 Apr 2020)
URL: https://git.bioconductor.org/packages/SummarizedExperiment
Branch: master
Last Commit: 81d41a1
Last Changed Date: 2020-03-26 20:58:26 -0400 (Thu, 26 Mar 2020)
tokay2 Windows Server 2012 R2 Standard / x64  OK [ OK ] WARNINGS  OK 

Summary

Package: SummarizedExperiment
Version: 1.17.5
Command: chmod a+r SummarizedExperiment -R && C:\Users\bioctesting\bbs-3.11-bioc-testing\R\bin\R.exe CMD build --keep-empty-dirs --no-resave-data SummarizedExperiment
StartedAt: 2020-04-14 18:50:23 -0400 (Tue, 14 Apr 2020)
EndedAt: 2020-04-14 18:51:14 -0400 (Tue, 14 Apr 2020)
EllapsedTime: 51.0 seconds
RetCode: 0
Status:  OK  
PackageFile: SummarizedExperiment_1.17.5.tar.gz
PackageFileSize: 1.45 MiB

Command output

##############################################################################
##############################################################################
###
### Running command:
###
###   chmod a+r SummarizedExperiment -R && C:\Users\bioctesting\bbs-3.11-bioc-testing\R\bin\R.exe CMD build --keep-empty-dirs --no-resave-data SummarizedExperiment
###
##############################################################################
##############################################################################


* checking for file 'SummarizedExperiment/DESCRIPTION' ... OK
* preparing 'SummarizedExperiment':
* checking DESCRIPTION meta-information ... OK
* installing the package to build vignettes
* creating vignettes ... OK
* checking for LF line-endings in source and make files and shell scripts
* checking for empty or unneeded directories
* building 'SummarizedExperiment_1.17.5.tar.gz'