Back to Multiple platform build/check report for BioC 3.11 (small subset of software packages ONLY) |
This page was generated on 2020-01-24 03:57:03 -0500 (Fri, 24 Jan 2020).
Package 37/41 | Hostname | OS / Arch | INSTALL | BUILD | CHECK | BUILD BIN | |||||
ShortRead 1.45.1 Bioconductor Package Maintainer
| malbec2 | Linux (Ubuntu 18.04.3 LTS) / x86_64 | OK | [ OK ] | WARNINGS | ||||||
tokay2 | Windows Server 2012 R2 Standard / x64 | OK | ERROR | skipped | skipped |
Package: ShortRead |
Version: 1.45.1 |
Command: /home/biocbuild/bbs-3.11-bioc/R/bin/R CMD build --keep-empty-dirs --no-resave-data ShortRead |
StartedAt: 2020-01-24 02:35:05 -0500 (Fri, 24 Jan 2020) |
EndedAt: 2020-01-24 02:36:38 -0500 (Fri, 24 Jan 2020) |
EllapsedTime: 93.4 seconds |
RetCode: 0 |
Status: OK |
PackageFile: ShortRead_1.45.1.tar.gz |
PackageFileSize: 4.944 MiB |
############################################################################## ############################################################################## ### ### Running command: ### ### /home/biocbuild/bbs-3.11-bioc/R/bin/R CMD build --keep-empty-dirs --no-resave-data ShortRead ### ############################################################################## ############################################################################## * checking for file ‘ShortRead/DESCRIPTION’ ... OK * preparing ‘ShortRead’: * checking DESCRIPTION meta-information ... OK * cleaning src * running ‘cleanup’ * installing the package to build vignettes * creating vignettes ... OK * cleaning src * running ‘cleanup’ * checking for LF line-endings in source and make files and shell scripts * checking for empty or unneeded directories * building ‘ShortRead_1.45.1.tar.gz’