Back to "Blame Jeroen" build/check report for BioC 3.11

BUILD report for SPIA on tokay2

This page was generated on 2020-04-15 03:20:10 -0400 (Wed, 15 Apr 2020).

These builds are using Rtools40 and R-testing by Jeroen Ooms (available at https://cran.r-project.org/bin/windows/testing/rtools40.html)
TO THE DEVELOPERS/MAINTAINERS OF THE SPIA PACKAGE: Please make sure to use the following settings in order to reproduce any error or warning you see on this page.
Package 80/89HostnameOS / ArchINSTALLBUILDCHECKBUILD BIN
SPIA 2.39.0
Adi Laurentiu Tarca
Snapshot Date: 2020-04-14 17:00:05 -0400 (Tue, 14 Apr 2020)
URL: https://git.bioconductor.org/packages/SPIA
Branch: master
Last Commit: 576789e
Last Changed Date: 2019-10-29 13:34:54 -0400 (Tue, 29 Oct 2019)
tokay2 Windows Server 2012 R2 Standard / x64  OK [ OK ] OK  OK 

Summary

Package: SPIA
Version: 2.39.0
Command: chmod a+r SPIA -R && C:\Users\bioctesting\bbs-3.11-bioc-testing\R\bin\R.exe CMD build --keep-empty-dirs --no-resave-data SPIA
StartedAt: 2020-04-14 18:39:53 -0400 (Tue, 14 Apr 2020)
EndedAt: 2020-04-14 18:44:11 -0400 (Tue, 14 Apr 2020)
EllapsedTime: 257.8 seconds
RetCode: 0
Status:  OK  
PackageFile: SPIA_2.39.0.tar.gz
PackageFileSize: 2.481 MiB

Command output

##############################################################################
##############################################################################
###
### Running command:
###
###   chmod a+r SPIA -R && C:\Users\bioctesting\bbs-3.11-bioc-testing\R\bin\R.exe CMD build --keep-empty-dirs --no-resave-data SPIA
###
##############################################################################
##############################################################################


* checking for file 'SPIA/DESCRIPTION' ... OK
* preparing 'SPIA':
* checking DESCRIPTION meta-information ... OK
* installing the package to build vignettes
* creating vignettes ... OK
* checking for LF line-endings in source and make files and shell scripts
* checking for empty or unneeded directories
* looking to see if a 'data/datalist' file should be added
* building 'SPIA_2.39.0.tar.gz'