Back to "Blame Jeroen" build/check report for BioC 3.11 |
This page was generated on 2020-04-15 03:20:15 -0400 (Wed, 15 Apr 2020).
These builds are using Rtools40 and R-testing by Jeroen Ooms (available at https://cran.r-project.org/bin/windows/testing/rtools40.html) |
TO THE DEVELOPERS/MAINTAINERS OF THE RProtoBufLib PACKAGE: Please make sure to use the following settings in order to reproduce any error or warning you see on this page. |
Package 72/89 | Hostname | OS / Arch | INSTALL | BUILD | CHECK | BUILD BIN | |||||
RProtoBufLib 1.99.7 Mike Jiang
| tokay2 | Windows Server 2012 R2 Standard / x64 | OK | OK | OK | [ OK ] |
Package: RProtoBufLib |
Version: 1.99.7 |
Command: rm -rf RProtoBufLib.buildbin-libdir && mkdir RProtoBufLib.buildbin-libdir && C:\Users\bioctesting\bbs-3.11-bioc-testing\R\bin\R.exe CMD INSTALL --merge-multiarch --build --library=RProtoBufLib.buildbin-libdir RProtoBufLib_1.99.7.tar.gz |
StartedAt: 2020-04-15 00:10:31 -0400 (Wed, 15 Apr 2020) |
EndedAt: 2020-04-15 00:10:50 -0400 (Wed, 15 Apr 2020) |
EllapsedTime: 18.7 seconds |
RetCode: 0 |
Status: OK |
PackageFile: RProtoBufLib_1.99.7.zip |
PackageFileSize: 5.188 MiB |
############################################################################## ############################################################################## ### ### Running command: ### ### rm -rf RProtoBufLib.buildbin-libdir && mkdir RProtoBufLib.buildbin-libdir && C:\Users\bioctesting\bbs-3.11-bioc-testing\R\bin\R.exe CMD INSTALL --merge-multiarch --build --library=RProtoBufLib.buildbin-libdir RProtoBufLib_1.99.7.tar.gz ### ############################################################################## ############################################################################## install for i386 * installing *source* package 'RProtoBufLib' ... ** using staged installation ********************************************** WARNING: this package has a configure script It probably needs manual configuration ********************************************** ** libs mkdir -p "C:/Users/bioctesting/bbs-3.11-bioc-testing/meat/RProtoBufLib.buildbin-libdir/00LOCK-RProtoBufLib/00new/RProtoBufLib/include" cp -r c:/protobuf/include/google "C:/Users/bioctesting/bbs-3.11-bioc-testing/meat/RProtoBufLib.buildbin-libdir/00LOCK-RProtoBufLib/00new/RProtoBufLib/include" mkdir -p "C:/Users/bioctesting/bbs-3.11-bioc-testing/meat/RProtoBufLib.buildbin-libdir/00LOCK-RProtoBufLib/00new/RProtoBufLib/lib/i386" cp c:/protobuf/lib/i386/libprotobuf-lite.a "C:/Users/bioctesting/bbs-3.11-bioc-testing/meat/RProtoBufLib.buildbin-libdir/00LOCK-RProtoBufLib/00new/RProtoBufLib/lib/i386/libprotobuf-lite.a" /mingw32/bin/g++ -std=gnu++11 -I"C:/Users/BIOCTE~1/BBS-3~1.11-/R/include" -DNDEBUG -I"C:/extsoft/include" -O2 -Wall -mfpmath=sse -msse2 -mstackrealign -c dummy.cpp -o dummy.o /mingw32/bin/g++ -std=gnu++11 -shared -s -static-libgcc -o RProtoBufLib.dll tmp.def dummy.o -LC:/extsoft/lib/i386 -LC:/extsoft/lib -LC:/Users/BIOCTE~1/BBS-3~1.11-/R/bin/i386 -lR installing to C:/Users/bioctesting/bbs-3.11-bioc-testing/meat/RProtoBufLib.buildbin-libdir/00LOCK-RProtoBufLib/00new/RProtoBufLib/libs/i386 ** R ** inst ** byte-compile and prepare package for lazy loading ** help *** installing help indices converting help for package 'RProtoBufLib' finding HTML links ... done LdFlags html ** building package indices ** installing vignettes ** testing if installed package can be loaded from temporary location ** testing if installed package can be loaded from final location ** testing if installed package keeps a record of temporary installation path install for x64 * installing *source* package 'RProtoBufLib' ... ********************************************** WARNING: this package has a configure script It probably needs manual configuration ********************************************** ** libs mkdir -p "C:/Users/bioctesting/bbs-3.11-bioc-testing/meat/RProtoBufLib.buildbin-libdir/RProtoBufLib/include" cp -r c:/protobuf/include/google "C:/Users/bioctesting/bbs-3.11-bioc-testing/meat/RProtoBufLib.buildbin-libdir/RProtoBufLib/include" mkdir -p "C:/Users/bioctesting/bbs-3.11-bioc-testing/meat/RProtoBufLib.buildbin-libdir/RProtoBufLib/lib/x64" cp c:/protobuf/lib/x64/libprotobuf-lite.a "C:/Users/bioctesting/bbs-3.11-bioc-testing/meat/RProtoBufLib.buildbin-libdir/RProtoBufLib/lib/x64/libprotobuf-lite.a" /mingw64/bin/g++ -std=gnu++11 -I"C:/Users/BIOCTE~1/BBS-3~1.11-/R/include" -DNDEBUG -I"C:/extsoft/include" -O2 -Wall -mfpmath=sse -msse2 -mstackrealign -c dummy.cpp -o dummy.o /mingw64/bin/g++ -std=gnu++11 -shared -s -static-libgcc -o RProtoBufLib.dll tmp.def dummy.o -LC:/extsoft/lib/x64 -LC:/extsoft/lib -LC:/Users/BIOCTE~1/BBS-3~1.11-/R/bin/x64 -lR installing to C:/Users/bioctesting/bbs-3.11-bioc-testing/meat/RProtoBufLib.buildbin-libdir/RProtoBufLib/libs/x64 ** testing if installed package can be loaded * MD5 sums packaged installation of 'RProtoBufLib' as RProtoBufLib_1.99.7.zip * DONE (RProtoBufLib)