Back to "Blame Jeroen" build/check report for BioC 3.11

CHECK report for ROC on tokay2

This page was generated on 2020-04-15 03:20:10 -0400 (Wed, 15 Apr 2020).

These builds are using Rtools40 and R-testing by Jeroen Ooms (available at https://cran.r-project.org/bin/windows/testing/rtools40.html)
TO THE DEVELOPERS/MAINTAINERS OF THE ROC PACKAGE: Please make sure to use the following settings in order to reproduce any error or warning you see on this page.
Package 71/89HostnameOS / ArchINSTALLBUILDCHECKBUILD BIN
ROC 1.63.0
Vince Carey
Snapshot Date: 2020-04-14 17:00:05 -0400 (Tue, 14 Apr 2020)
URL: https://git.bioconductor.org/packages/ROC
Branch: master
Last Commit: 364e36c
Last Changed Date: 2019-10-29 13:34:30 -0400 (Tue, 29 Oct 2019)
tokay2 Windows Server 2012 R2 Standard / x64  OK  OK [ OK ] OK 

Summary

Package: ROC
Version: 1.63.0
Command: C:\Users\bioctesting\bbs-3.11-bioc-testing\R\bin\R.exe CMD check --force-multiarch --install=check:ROC.install-out.txt --library=C:\Users\bioctesting\bbs-3.11-bioc-testing\R\library --no-vignettes --timings ROC_1.63.0.tar.gz
StartedAt: 2020-04-14 21:38:18 -0400 (Tue, 14 Apr 2020)
EndedAt: 2020-04-14 21:39:02 -0400 (Tue, 14 Apr 2020)
EllapsedTime: 43.6 seconds
RetCode: 0
Status:  OK  
CheckDir: ROC.Rcheck
Warnings: 0

Command output

##############################################################################
##############################################################################
###
### Running command:
###
###   C:\Users\bioctesting\bbs-3.11-bioc-testing\R\bin\R.exe CMD check --force-multiarch --install=check:ROC.install-out.txt --library=C:\Users\bioctesting\bbs-3.11-bioc-testing\R\library --no-vignettes --timings ROC_1.63.0.tar.gz
###
##############################################################################
##############################################################################


* using log directory 'C:/Users/bioctesting/bbs-3.11-bioc-testing/meat/ROC.Rcheck'
* using R version 4.0.0 alpha (Rtools40) (2020-03-31 r78116)
* using platform: x86_64-w64-mingw32 (64-bit)
* using session charset: ISO8859-1
* using option '--no-vignettes'
* checking for file 'ROC/DESCRIPTION' ... OK
* this is package 'ROC' version '1.63.0'
* checking package namespace information ... OK
* checking package dependencies ... OK
* checking if this is a source package ... OK
* checking if there is a namespace ... OK
* checking for hidden files and directories ... OK
* checking for portable file names ... OK
* checking whether package 'ROC' can be installed ... OK
* checking installed package size ... OK
* checking package directory ... OK
* checking 'build' directory ... OK
* checking DESCRIPTION meta-information ... OK
* checking top-level files ... OK
* checking for left-over files ... OK
* checking index information ... OK
* checking package subdirectories ... OK
* checking R files for non-ASCII characters ... OK
* checking R files for syntax errors ... OK
* loading checks for arch 'i386'
** checking whether the package can be loaded ... OK
** checking whether the package can be loaded with stated dependencies ... OK
** checking whether the package can be unloaded cleanly ... OK
** checking whether the namespace can be loaded with stated dependencies ... OK
** checking whether the namespace can be unloaded cleanly ... OK
* loading checks for arch 'x64'
** checking whether the package can be loaded ... OK
** checking whether the package can be loaded with stated dependencies ... OK
** checking whether the package can be unloaded cleanly ... OK
** checking whether the namespace can be loaded with stated dependencies ... OK
** checking whether the namespace can be unloaded cleanly ... OK
* checking dependencies in R code ... OK
* checking S3 generic/method consistency ... OK
* checking replacement functions ... OK
* checking foreign function calls ... OK
* checking R code for possible problems ... OK
* checking Rd files ... NOTE
prepare_Rd: AUC.Rd:38-39: Dropping empty section \value
prepare_Rd: AUC.Rd:48: Dropping empty section \note
prepare_Rd: rocdemo.sca.Rd:42: Dropping empty section \note
prepare_Rd: rocdemo.sca.Rd:40: Dropping empty section \references
prepare_Rd: trapezint.Rd:23: Dropping empty section \note
prepare_Rd: trapezint.Rd:22: Dropping empty section \author
prepare_Rd: trapezint.Rd:21: Dropping empty section \references
prepare_Rd: trapezint.Rd:24: Dropping empty section \seealso
* checking Rd metadata ... OK
* checking Rd cross-references ... OK
* checking for missing documentation entries ... OK
* checking for code/documentation mismatches ... OK
* checking Rd \usage sections ... OK
* checking Rd contents ... OK
* checking for unstated dependencies in examples ... OK
* checking line endings in C/C++/Fortran sources/headers ... OK
* checking compiled code ... NOTE
Note: information on .o files for i386 is not available
Note: information on .o files for x64 is not available
File 'C:/Users/bioctesting/bbs-3.11-bioc-testing/R/library/ROC/libs/i386/ROC.dll':
  Found 'abort', possibly from 'abort' (C), 'runtime' (Fortran)

Compiled code should not call entry points which might terminate R nor
write to stdout/stderr instead of to the console, nor use Fortran I/O
nor system RNGs. The detected symbols are linked into the code but
might come from libraries and not actually be called.

See 'Writing portable packages' in the 'Writing R Extensions' manual.
* checking files in 'vignettes' ... OK
* checking examples ...
** running examples for arch 'i386' ... OK
** running examples for arch 'x64' ... OK
* checking for unstated dependencies in vignettes ... OK
* checking package vignettes in 'inst/doc' ... OK
* checking running R code from vignettes ... SKIPPED
* checking re-building of vignette outputs ... SKIPPED
* checking PDF version of manual ... OK
* DONE

Status: 2 NOTEs
See
  'C:/Users/bioctesting/bbs-3.11-bioc-testing/meat/ROC.Rcheck/00check.log'
for details.



Installation output

ROC.Rcheck/00install.out

##############################################################################
##############################################################################
###
### Running command:
###
###   C:\cygwin\bin\curl.exe -O https://malbec2.bioconductor.org/BBS/3.11/bioc-testing/src/contrib/ROC_1.63.0.tar.gz && rm -rf ROC.buildbin-libdir && mkdir ROC.buildbin-libdir && C:\Users\bioctesting\bbs-3.11-bioc-testing\R\bin\R.exe CMD INSTALL --merge-multiarch --build --library=ROC.buildbin-libdir ROC_1.63.0.tar.gz && C:\Users\bioctesting\bbs-3.11-bioc-testing\R\bin\R.exe CMD INSTALL ROC_1.63.0.zip && rm ROC_1.63.0.tar.gz ROC_1.63.0.zip
###
##############################################################################
##############################################################################


  % Total    % Received % Xferd  Average Speed   Time    Time     Time  Current
                                 Dload  Upload   Total   Spent    Left  Speed

  0     0    0     0    0     0      0      0 --:--:-- --:--:-- --:--:--     0
100 16318  100 16318    0     0   154k      0 --:--:-- --:--:-- --:--:--  164k

install for i386

* installing *source* package 'ROC' ...
** using staged installation
** libs
/mingw32/bin/g++ -std=gnu++11  -I"C:/Users/BIOCTE~1/BBS-3~1.11-/R/include" -DNDEBUG     -I"C:/extsoft/include"     -O2 -Wall  -mfpmath=sse -msse2 -mstackrealign -c ROC.cc -o ROC.o
/mingw32/bin/g++ -std=gnu++11 -shared -s -static-libgcc -o ROC.dll tmp.def ROC.o -LC:/extsoft/lib/i386 -LC:/extsoft/lib -LC:/Users/BIOCTE~1/BBS-3~1.11-/R/bin/i386 -lR
installing to C:/Users/bioctesting/bbs-3.11-bioc-testing/meat/ROC.buildbin-libdir/00LOCK-ROC/00new/ROC/libs/i386
** R
** byte-compile and prepare package for lazy loading
** help
*** installing help indices
  converting help for package 'ROC'
    finding HTML links ... done
    AUC                                     html  
    plot-methods                            html  
    rocc-class                              html  
    rocdemo.sca                             html  
    trapezint                               html  
** building package indices
** installing vignettes
** testing if installed package can be loaded from temporary location
** testing if installed package can be loaded from final location
** testing if installed package keeps a record of temporary installation path

install for x64

* installing *source* package 'ROC' ...
** libs
/mingw64/bin/g++ -std=gnu++11  -I"C:/Users/BIOCTE~1/BBS-3~1.11-/R/include" -DNDEBUG     -I"C:/extsoft/include"     -O2 -Wall  -mfpmath=sse -msse2 -mstackrealign -c ROC.cc -o ROC.o
/mingw64/bin/g++ -std=gnu++11 -shared -s -static-libgcc -o ROC.dll tmp.def ROC.o -LC:/extsoft/lib/x64 -LC:/extsoft/lib -LC:/Users/BIOCTE~1/BBS-3~1.11-/R/bin/x64 -lR
installing to C:/Users/bioctesting/bbs-3.11-bioc-testing/meat/ROC.buildbin-libdir/ROC/libs/x64
** testing if installed package can be loaded
* MD5 sums
packaged installation of 'ROC' as ROC_1.63.0.zip
* DONE (ROC)
* installing to library 'C:/Users/bioctesting/bbs-3.11-bioc-testing/R/library'
package 'ROC' successfully unpacked and MD5 sums checked

Tests output


Example timings

ROC.Rcheck/examples_i386/ROC-Ex.timings

nameusersystemelapsed
AUC0.020.000.22
plot-methods0.010.000.01
rocc-class0.030.000.03
rocdemo.sca1.220.001.22
trapezint000

ROC.Rcheck/examples_x64/ROC-Ex.timings

nameusersystemelapsed
AUC0.00.00.5
plot-methods0.020.000.01
rocc-class0.030.000.04
rocdemo.sca1.280.001.32
trapezint000