Back to "Blame Jeroen" build/check report for BioC 3.11 |
This page was generated on 2020-04-15 03:20:09 -0400 (Wed, 15 Apr 2020).
These builds are using Rtools40 and R-testing by Jeroen Ooms (available at https://cran.r-project.org/bin/windows/testing/rtools40.html) |
TO THE DEVELOPERS/MAINTAINERS OF THE IRanges PACKAGE: Please make sure to use the following settings in order to reproduce any error or warning you see on this page. |
Package 51/89 | Hostname | OS / Arch | INSTALL | BUILD | CHECK | BUILD BIN | |||||
IRanges 2.21.8 Bioconductor Package Maintainer
| tokay2 | Windows Server 2012 R2 Standard / x64 | OK | [ OK ] | WARNINGS | OK |
Package: IRanges |
Version: 2.21.8 |
Command: chmod a+r IRanges -R && C:\Users\bioctesting\bbs-3.11-bioc-testing\R\bin\R.exe CMD build --keep-empty-dirs --no-resave-data IRanges |
StartedAt: 2020-04-14 18:33:14 -0400 (Tue, 14 Apr 2020) |
EndedAt: 2020-04-14 18:35:10 -0400 (Tue, 14 Apr 2020) |
EllapsedTime: 115.7 seconds |
RetCode: 0 |
Status: OK |
PackageFile: IRanges_2.21.8.tar.gz |
PackageFileSize: 453.3 KiB |
############################################################################## ############################################################################## ### ### Running command: ### ### chmod a+r IRanges -R && C:\Users\bioctesting\bbs-3.11-bioc-testing\R\bin\R.exe CMD build --keep-empty-dirs --no-resave-data IRanges ### ############################################################################## ############################################################################## * checking for file 'IRanges/DESCRIPTION' ... OK * preparing 'IRanges': * checking DESCRIPTION meta-information ... OK * cleaning src * installing the package to build vignettes * creating vignettes ... OK * cleaning src * checking for LF line-endings in source and make files and shell scripts * checking for empty or unneeded directories * building 'IRanges_2.21.8.tar.gz'