Back to "Blame Jeroen" build/check report for BioC 3.11 |
This page was generated on 2020-04-15 03:20:14 -0400 (Wed, 15 Apr 2020).
These builds are using Rtools40 and R-testing by Jeroen Ooms (available at https://cran.r-project.org/bin/windows/testing/rtools40.html) |
TO THE DEVELOPERS/MAINTAINERS OF THE Gviz PACKAGE: Please make sure to use the following settings in order to reproduce any error or warning you see on this page. |
Package 46/89 | Hostname | OS / Arch | INSTALL | BUILD | CHECK | BUILD BIN | |||||
Gviz 1.31.12 Robert Ivanek
| tokay2 | Windows Server 2012 R2 Standard / x64 | OK | OK | OK | [ OK ] |
Package: Gviz |
Version: 1.31.12 |
Command: rm -rf Gviz.buildbin-libdir && mkdir Gviz.buildbin-libdir && C:\Users\bioctesting\bbs-3.11-bioc-testing\R\bin\R.exe CMD INSTALL --merge-multiarch --build --library=Gviz.buildbin-libdir Gviz_1.31.12.tar.gz |
StartedAt: 2020-04-15 00:07:50 -0400 (Wed, 15 Apr 2020) |
EndedAt: 2020-04-15 00:09:34 -0400 (Wed, 15 Apr 2020) |
EllapsedTime: 104.1 seconds |
RetCode: 0 |
Status: OK |
PackageFile: Gviz_1.31.12.zip |
PackageFileSize: 7.041 MiB |
############################################################################## ############################################################################## ### ### Running command: ### ### rm -rf Gviz.buildbin-libdir && mkdir Gviz.buildbin-libdir && C:\Users\bioctesting\bbs-3.11-bioc-testing\R\bin\R.exe CMD INSTALL --merge-multiarch --build --library=Gviz.buildbin-libdir Gviz_1.31.12.tar.gz ### ############################################################################## ############################################################################## install for i386 * installing *source* package 'Gviz' ... ** using staged installation ** R ** data ** inst ** byte-compile and prepare package for lazy loading ** help *** installing help indices converting help for package 'Gviz' finding HTML links ... done AlignedReadTrack-class html finding level-2 HTML links ... done AlignmentsTrack-class html AnnotationTrack-class html BiomartGeneRegionTrack-class html CustomTrack-class html DataTrack-class html DisplayPars-class html GdObject-class html GeneRegionTrack-class html GenomeAxisTrack-class html Gviz-deprecated html HighlightTrack-class html IdeogramTrack-class html ImageMap-class html NumericTrack-class html OverlayTrack-class html RangeTrack-class html ReferenceTrack-class html SequenceTrack-class html StackedTrack-class html UcscTrack html collapsing html datasets html exportTracks html grouping html plotTracks html settings html ** building package indices ** installing vignettes ** testing if installed package can be loaded from temporary location ** testing if installed package can be loaded from final location ** testing if installed package keeps a record of temporary installation path install for x64 * installing *source* package 'Gviz' ... ** testing if installed package can be loaded * MD5 sums packaged installation of 'Gviz' as Gviz_1.31.12.zip * DONE (Gviz)