Back to Multiple platform build/check report for BioC 3.11 (small subset of software packages ONLY)

BUILD report for GenomicRanges on malbec2

This page was generated on 2020-01-24 03:57:02 -0500 (Fri, 24 Jan 2020).

Package 24/41HostnameOS / ArchINSTALLBUILDCHECKBUILD BIN
GenomicRanges 1.39.1
Bioconductor Package Maintainer
Snapshot Date: 2020-01-24 01:50:48 -0500 (Fri, 24 Jan 2020)
URL: https://git.bioconductor.org/packages/GenomicRanges
Branch: master
Last Commit: c0ace2b
Last Changed Date: 2019-12-22 15:11:42 -0500 (Sun, 22 Dec 2019)
malbec2 Linux (Ubuntu 18.04.3 LTS) / x86_64  OK [ OK ] WARNINGS 
tokay2 Windows Server 2012 R2 Standard / x64  OK  ERROR  skipped  skipped 

Summary

Package: GenomicRanges
Version: 1.39.1
Command: /home/biocbuild/bbs-3.11-bioc/R/bin/R CMD build --keep-empty-dirs --no-resave-data GenomicRanges
StartedAt: 2020-01-24 02:18:17 -0500 (Fri, 24 Jan 2020)
EndedAt: 2020-01-24 02:21:23 -0500 (Fri, 24 Jan 2020)
EllapsedTime: 186.1 seconds
RetCode: 0
Status:  OK 
PackageFile: GenomicRanges_1.39.1.tar.gz
PackageFileSize: 1.123 MiB

Command output

##############################################################################
##############################################################################
###
### Running command:
###
###   /home/biocbuild/bbs-3.11-bioc/R/bin/R CMD build --keep-empty-dirs --no-resave-data GenomicRanges
###
##############################################################################
##############################################################################


* checking for file ‘GenomicRanges/DESCRIPTION’ ... OK
* preparing ‘GenomicRanges’:
* checking DESCRIPTION meta-information ... OK
* cleaning src
* installing the package to build vignettes
* creating vignettes ... OK
* cleaning src
* checking for LF line-endings in source and make files and shell scripts
* checking for empty or unneeded directories
* building ‘GenomicRanges_1.39.1.tar.gz’