Back to Multiple platform build/check report for BioC 3.11 (small subset of software packages ONLY)

INSTALL report for GenomicFeatures on malbec2

This page was generated on 2020-01-24 03:57:03 -0500 (Fri, 24 Jan 2020).

Package 23/41HostnameOS / ArchINSTALLBUILDCHECKBUILD BIN
GenomicFeatures 1.39.3
Bioconductor Package Maintainer
Snapshot Date: 2020-01-24 01:50:48 -0500 (Fri, 24 Jan 2020)
URL: https://git.bioconductor.org/packages/GenomicFeatures
Branch: master
Last Commit: 47de515
Last Changed Date: 2020-01-21 20:36:12 -0500 (Tue, 21 Jan 2020)
malbec2 Linux (Ubuntu 18.04.3 LTS) / x86_64 [ OK ] OK  OK 
tokay2 Windows Server 2012 R2 Standard / x64  OK  ERROR  skipped  skipped 

Summary

Package: GenomicFeatures
Version: 1.39.3
Command: /home/biocbuild/bbs-3.11-bioc/R/bin/R CMD INSTALL GenomicFeatures
StartedAt: 2020-01-24 02:10:23 -0500 (Fri, 24 Jan 2020)
EndedAt: 2020-01-24 02:11:12 -0500 (Fri, 24 Jan 2020)
EllapsedTime: 49.1 seconds
RetCode: 0
Status:  OK 

Command output

##############################################################################
##############################################################################
###
### Running command:
###
###   /home/biocbuild/bbs-3.11-bioc/R/bin/R CMD INSTALL GenomicFeatures
###
##############################################################################
##############################################################################


* installing to library ‘/home/biocbuild/bbs-3.11-bioc-testing/Rlibs’
* installing *source* package ‘GenomicFeatures’ ...
** using staged installation
** R
** inst
** byte-compile and prepare package for lazy loading
** help
*** installing help indices
** building package indices
** installing vignettes
** testing if installed package can be loaded from temporary location
** testing if installed package can be loaded from final location
** testing if installed package keeps a record of temporary installation path
* DONE (GenomicFeatures)