Back to "Blame Jeroen" build/check report for BioC 3.11 |
This page was generated on 2020-04-15 03:20:10 -0400 (Wed, 15 Apr 2020).
These builds are using Rtools40 and R-testing by Jeroen Ooms (available at https://cran.r-project.org/bin/windows/testing/rtools40.html) |
TO THE DEVELOPERS/MAINTAINERS OF THE DelayedArray PACKAGE: Please make sure to use the following settings in order to reproduce any error or warning you see on this page. |
Package 26/89 | Hostname | OS / Arch | INSTALL | BUILD | CHECK | BUILD BIN | |||||
DelayedArray 0.13.12 Hervé Pagès
| tokay2 | Windows Server 2012 R2 Standard / x64 | OK | [ OK ] | WARNINGS | OK |
Package: DelayedArray |
Version: 0.13.12 |
Command: chmod a+r DelayedArray -R && C:\Users\bioctesting\bbs-3.11-bioc-testing\R\bin\R.exe CMD build --keep-empty-dirs --no-resave-data DelayedArray |
StartedAt: 2020-04-14 18:46:35 -0400 (Tue, 14 Apr 2020) |
EndedAt: 2020-04-14 18:47:38 -0400 (Tue, 14 Apr 2020) |
EllapsedTime: 62.6 seconds |
RetCode: 0 |
Status: OK |
PackageFile: DelayedArray_0.13.12.tar.gz |
PackageFileSize: 550.5 KiB |
############################################################################## ############################################################################## ### ### Running command: ### ### chmod a+r DelayedArray -R && C:\Users\bioctesting\bbs-3.11-bioc-testing\R\bin\R.exe CMD build --keep-empty-dirs --no-resave-data DelayedArray ### ############################################################################## ############################################################################## * checking for file 'DelayedArray/DESCRIPTION' ... OK * preparing 'DelayedArray': * checking DESCRIPTION meta-information ... OK * cleaning src * installing the package to build vignettes * creating vignettes ... OK * cleaning src * excluding invalid files Subdirectory 'inst/doc' contains invalid file names: '02-Implementing_a_backend.Rmd' '01-Working_with_large_arrays.Rnw' '02-Implementing_a_backend.html' '01-Working_with_large_arrays.pdf' * checking for LF line-endings in source and make files and shell scripts * checking for empty or unneeded directories * building 'DelayedArray_0.13.12.tar.gz'