Back to "Blame Jeroen" build/check report for BioC 3.11

BUILD report for DESeq2 on tokay2

This page was generated on 2020-04-15 03:20:12 -0400 (Wed, 15 Apr 2020).

These builds are using Rtools40 and R-testing by Jeroen Ooms (available at https://cran.r-project.org/bin/windows/testing/rtools40.html)
TO THE DEVELOPERS/MAINTAINERS OF THE DESeq2 PACKAGE: Please make sure to use the following settings in order to reproduce any error or warning you see on this page.
Package 29/89HostnameOS / ArchINSTALLBUILDCHECKBUILD BIN
DESeq2 1.27.31
Michael Love
Snapshot Date: 2020-04-14 17:00:05 -0400 (Tue, 14 Apr 2020)
URL: https://git.bioconductor.org/packages/DESeq2
Branch: master
Last Commit: f8ed9d5
Last Changed Date: 2020-04-10 09:56:41 -0400 (Fri, 10 Apr 2020)
tokay2 Windows Server 2012 R2 Standard / x64  OK [ OK ] OK  OK 

Summary

Package: DESeq2
Version: 1.27.31
Command: chmod a+r DESeq2 -R && C:\Users\bioctesting\bbs-3.11-bioc-testing\R\bin\R.exe CMD build --keep-empty-dirs --no-resave-data DESeq2
StartedAt: 2020-04-14 19:26:18 -0400 (Tue, 14 Apr 2020)
EndedAt: 2020-04-14 19:29:41 -0400 (Tue, 14 Apr 2020)
EllapsedTime: 203.1 seconds
RetCode: 0
Status:  OK  
PackageFile: DESeq2_1.27.31.tar.gz
PackageFileSize: 1.4 MiB

Command output

##############################################################################
##############################################################################
###
### Running command:
###
###   chmod a+r DESeq2 -R && C:\Users\bioctesting\bbs-3.11-bioc-testing\R\bin\R.exe CMD build --keep-empty-dirs --no-resave-data DESeq2
###
##############################################################################
##############################################################################


* checking for file 'DESeq2/DESCRIPTION' ... OK
* preparing 'DESeq2':
* checking DESCRIPTION meta-information ... OK
* cleaning src
* installing the package to build vignettes
* creating vignettes ... OK
* cleaning src
* checking for LF line-endings in source and make files and shell scripts
* checking for empty or unneeded directories
* building 'DESeq2_1.27.31.tar.gz'