Back to "Blame Jeroen" build/check report for BioC 3.11

"Blame Jeroen" build/check report for BioC 3.11

Results for DESeq

This page was generated on 2020-04-15 03:20:08 -0400 (Wed, 15 Apr 2020).

These builds are using Rtools40 and R-testing by Jeroen Ooms (available at https://cran.r-project.org/bin/windows/testing/rtools40.html)
Package 28/89HostnameOS / ArchINSTALLBUILDCHECKBUILD BIN
DESeq 1.39.3
Simon Anders
Snapshot Date: 2020-04-14 17:00:05 -0400 (Tue, 14 Apr 2020)
URL: https://git.bioconductor.org/packages/DESeq
Branch: master
Last Commit: 01e71c7
Last Changed Date: 2020-03-31 15:16:12 -0400 (Tue, 31 Mar 2020)
tokay2 Windows Server 2012 R2 Standard / x64  OK  ERROR  skipped  skipped