| Back to "Blame Jeroen" build/check report for BioC 3.11 |
This page was generated on 2020-04-15 03:20:10 -0400 (Wed, 15 Apr 2020).
| These builds are using Rtools40 and R-testing by Jeroen Ooms (available at https://cran.r-project.org/bin/windows/testing/rtools40.html) |
| TO THE DEVELOPERS/MAINTAINERS OF THE Biostrings PACKAGE: Please make sure to use the following settings in order to reproduce any error or warning you see on this page. |
| Package 21/89 | Hostname | OS / Arch | INSTALL | BUILD | CHECK | BUILD BIN | |||||
| Biostrings 2.55.7 H. Pagès
| tokay2 | Windows Server 2012 R2 Standard / x64 | OK | [ OK ] | WARNINGS | OK |
| Package: Biostrings |
| Version: 2.55.7 |
| Command: chmod a+r Biostrings -R && C:\Users\bioctesting\bbs-3.11-bioc-testing\R\bin\R.exe CMD build --keep-empty-dirs --no-resave-data Biostrings |
| StartedAt: 2020-04-14 18:44:16 -0400 (Tue, 14 Apr 2020) |
| EndedAt: 2020-04-14 18:46:30 -0400 (Tue, 14 Apr 2020) |
| EllapsedTime: 134.7 seconds |
| RetCode: 0 |
| Status: OK |
| PackageFile: Biostrings_2.55.7.tar.gz |
| PackageFileSize: 12.1 MiB |
############################################################################## ############################################################################## ### ### Running command: ### ### chmod a+r Biostrings -R && C:\Users\bioctesting\bbs-3.11-bioc-testing\R\bin\R.exe CMD build --keep-empty-dirs --no-resave-data Biostrings ### ############################################################################## ############################################################################## * checking for file 'Biostrings/DESCRIPTION' ... OK * preparing 'Biostrings': * checking DESCRIPTION meta-information ... OK * cleaning src * installing the package to build vignettes * creating vignettes ... OK * cleaning src * checking for LF line-endings in source and make files and shell scripts * checking for empty or unneeded directories * looking to see if a 'data/datalist' file should be added * building 'Biostrings_2.55.7.tar.gz'