Back to "Blame Jeroen" build/check report for BioC 3.11 |
This page was generated on 2020-04-15 03:20:11 -0400 (Wed, 15 Apr 2020).
These builds are using Rtools40 and R-testing by Jeroen Ooms (available at https://cran.r-project.org/bin/windows/testing/rtools40.html) |
TO THE DEVELOPERS/MAINTAINERS OF THE AnnotationHub PACKAGE: Please make sure to use the following settings in order to reproduce any error or warning you see on this page. |
Package 8/89 | Hostname | OS / Arch | INSTALL | BUILD | CHECK | BUILD BIN | |||||
AnnotationHub 2.19.9 Bioconductor Package Maintainer
| tokay2 | Windows Server 2012 R2 Standard / x64 | OK | OK | WARNINGS | [ OK ] |
Package: AnnotationHub |
Version: 2.19.9 |
Command: rm -rf AnnotationHub.buildbin-libdir && mkdir AnnotationHub.buildbin-libdir && C:\Users\bioctesting\bbs-3.11-bioc-testing\R\bin\R.exe CMD INSTALL --merge-multiarch --build --library=AnnotationHub.buildbin-libdir AnnotationHub_2.19.9.tar.gz |
StartedAt: 2020-04-14 23:51:07 -0400 (Tue, 14 Apr 2020) |
EndedAt: 2020-04-14 23:51:36 -0400 (Tue, 14 Apr 2020) |
EllapsedTime: 28.8 seconds |
RetCode: 0 |
Status: OK |
PackageFile: AnnotationHub_2.19.9.zip |
PackageFileSize: 1.418 MiB |
############################################################################## ############################################################################## ### ### Running command: ### ### rm -rf AnnotationHub.buildbin-libdir && mkdir AnnotationHub.buildbin-libdir && C:\Users\bioctesting\bbs-3.11-bioc-testing\R\bin\R.exe CMD INSTALL --merge-multiarch --build --library=AnnotationHub.buildbin-libdir AnnotationHub_2.19.9.tar.gz ### ############################################################################## ############################################################################## install for i386 * installing *source* package 'AnnotationHub' ... ** using staged installation ** R ** inst ** byte-compile and prepare package for lazy loading ** help *** installing help indices converting help for package 'AnnotationHub' finding HTML links ... done AnnotationHub-class html AnnotationHub-package html AnnotationHubResource-class html Hub-utils html convertHub html getAnnotationHubOption html listResources html utils html ** building package indices ** installing vignettes ** testing if installed package can be loaded from temporary location ** testing if installed package can be loaded from final location ** testing if installed package keeps a record of temporary installation path install for x64 * installing *source* package 'AnnotationHub' ... ** testing if installed package can be loaded * MD5 sums packaged installation of 'AnnotationHub' as AnnotationHub_2.19.9.zip * DONE (AnnotationHub)