| Back to Long Tests report for BioC 3.11 |
This page was generated on 2020-10-10 17:30:04 -0400 (Sat, 10 Oct 2020).
| TO THE DEVELOPERS/MAINTAINERS OF THE APAlyzer PACKAGE: Please make sure to use the following settings in order to reproduce any error or warning you see on this page. |
| Package 1/7 | Hostname | OS / Arch | CHECK | |||||
| APAlyzer 1.2.0 Ruijia Wang
| malbec2 | Linux (Ubuntu 18.04.4 LTS) / x86_64 | OK | |||||
| tokay2 | Windows Server 2012 R2 Standard / x64 | OK | ||||||
| machv2 | macOS 10.14.6 Mojave / x86_64 | [ OK ] |
| Package: APAlyzer |
| Version: 1.2.0 |
| Command: /Library/Frameworks/R.framework/Versions/Current/Resources/bin/R CMD check --test-dir=longtests --no-stop-on-test-error --no-codoc --no-examples --no-manual --ignore-vignettes --check-subdirs=no APAlyzer_1.2.0.tar.gz |
| StartedAt: 2020-10-10 10:03:53 -0400 (Sat, 10 Oct 2020) |
| EndedAt: 2020-10-10 10:11:24 -0400 (Sat, 10 Oct 2020) |
| EllapsedTime: 450.7 seconds |
| RetCode: 0 |
| Status: OK |
| CheckDir: APAlyzer.Rcheck |
| Warnings: 0 |
APAlyzer.Rcheck/tests/runTests.Rout
R version 4.0.2 (2020-06-22) -- "Taking Off Again"
Copyright (C) 2020 The R Foundation for Statistical Computing
Platform: x86_64-apple-darwin17.0 (64-bit)
R is free software and comes with ABSOLUTELY NO WARRANTY.
You are welcome to redistribute it under certain conditions.
Type 'license()' or 'licence()' for distribution details.
R is a collaborative project with many contributors.
Type 'contributors()' for more information and
'citation()' on how to cite R or R packages in publications.
Type 'demo()' for some demos, 'help()' for on-line help, or
'help.start()' for an HTML browser interface to help.
Type 'q()' to quit R.
> require("APAlyzer") || stop("unable to load Package:APAlyzer")
Loading required package: APAlyzer
[1] TRUE
> require("GenomicRanges") || stop("unable to load Package:GenomicRanges")
Loading required package: GenomicRanges
Loading required package: stats4
Loading required package: BiocGenerics
Loading required package: parallel
Attaching package: 'BiocGenerics'
The following objects are masked from 'package:parallel':
clusterApply, clusterApplyLB, clusterCall, clusterEvalQ,
clusterExport, clusterMap, parApply, parCapply, parLapply,
parLapplyLB, parRapply, parSapply, parSapplyLB
The following objects are masked from 'package:stats':
IQR, mad, sd, var, xtabs
The following objects are masked from 'package:base':
Filter, Find, Map, Position, Reduce, anyDuplicated, append,
as.data.frame, basename, cbind, colnames, dirname, do.call,
duplicated, eval, evalq, get, grep, grepl, intersect, is.unsorted,
lapply, mapply, match, mget, order, paste, pmax, pmax.int, pmin,
pmin.int, rank, rbind, rownames, sapply, setdiff, sort, table,
tapply, union, unique, unsplit, which, which.max, which.min
Loading required package: S4Vectors
Attaching package: 'S4Vectors'
The following object is masked from 'package:base':
expand.grid
Loading required package: IRanges
Loading required package: GenomeInfoDb
[1] TRUE
> require("GenomicFeatures") || stop("unable to load Package:GenomicFeatures")
Loading required package: GenomicFeatures
Loading required package: AnnotationDbi
Loading required package: Biobase
Welcome to Bioconductor
Vignettes contain introductory material; view with
'browseVignettes()'. To cite Bioconductor, see
'citation("Biobase")', and for packages 'citation("pkgname")'.
[1] TRUE
> require("GenomicAlignments") || stop("unable to load Package:GenomicAlignments")
Loading required package: GenomicAlignments
Loading required package: SummarizedExperiment
Loading required package: DelayedArray
Loading required package: matrixStats
Attaching package: 'matrixStats'
The following objects are masked from 'package:Biobase':
anyMissing, rowMedians
Attaching package: 'DelayedArray'
The following objects are masked from 'package:matrixStats':
colMaxs, colMins, colRanges, rowMaxs, rowMins, rowRanges
The following objects are masked from 'package:base':
aperm, apply, rowsum
Loading required package: Biostrings
Loading required package: XVector
Attaching package: 'Biostrings'
The following object is masked from 'package:base':
strsplit
Loading required package: Rsamtools
[1] TRUE
> require("DESeq") || stop("unable to load Package:DESeq")
Loading required package: DESeq
Loading required package: locfit
locfit 1.5-9.4 2020-03-24
Loading required package: lattice
[1] TRUE
Warning message:
Package 'DESeq' is deprecated and will be removed from Bioconductor
version 3.13. Please use DESeq2
> require("SummarizedExperiment") || stop("unable to load Package:SummarizedExperiment")
[1] TRUE
> require("Rsubread") || stop("unable to load Package:Rsubread")
Loading required package: Rsubread
[1] TRUE
> require("stats") || stop("unable to load Package:stats")
[1] TRUE
> require("testthat") || stop("unable to load testthat")
Loading required package: testthat
[1] TRUE
> test_check("APAlyzer")
trying URL 'ftp://ftp.ensembl.org/pub/release-99/gtf/mus_musculus/Mus_musculus.GRCm38.99.gtf.gz'
Content type 'unknown' length 30321565 bytes (28.9 MB)
==================================================
══ testthat results ═══════════════════════════════════════════════════════════
[ OK: 1 | SKIPPED: 0 | WARNINGS: 3 | FAILED: 0 ]
Warning messages:
1: In for (i in 2:nargs) { :
closing unused connection 4 (ftp://ftp.ensembl.org/pub/release-99/mysql/)
2: call dbDisconnect() when finished working with a connection
>
> proc.time()
user system elapsed
211.443 12.857 236.036
##############################################################################
##############################################################################
###
### Running command:
###
### /Library/Frameworks/R.framework/Versions/Current/Resources/bin/R CMD check --test-dir=longtests --no-stop-on-test-error --no-codoc --no-examples --no-manual --ignore-vignettes --check-subdirs=no APAlyzer_1.2.0.tar.gz
###
##############################################################################
##############################################################################
* using log directory ‘/Users/biocbuild/bbs-3.11-bioc-longtests/meat/APAlyzer.Rcheck’
* using R version 4.0.2 (2020-06-22)
* using platform: x86_64-apple-darwin17.0 (64-bit)
* using session charset: UTF-8
* using options ‘--no-codoc --no-examples --no-manual --ignore-vignettes --no-stop-on-test-error’
* checking for file ‘APAlyzer/DESCRIPTION’ ... OK
* checking extension type ... Package
* this is package ‘APAlyzer’ version ‘1.2.0’
* package encoding: UTF-8
* checking package namespace information ... OK
* checking package dependencies ... OK
* checking if this is a source package ... OK
* checking if there is a namespace ... OK
* checking for hidden files and directories ... NOTE
Found the following hidden files and directories:
.BBSoptions
These were most likely included in error. See section ‘Package
structure’ in the ‘Writing R Extensions’ manual.
* checking for portable file names ... OK
* checking for sufficient/correct file permissions ... OK
* checking whether package ‘APAlyzer’ can be installed ... OK
* checking installed package size ... OK
* checking package directory ... OK
* checking DESCRIPTION meta-information ... OK
* checking top-level files ... NOTE
File
LICENSE
is not mentioned in the DESCRIPTION file.
* checking for left-over files ... OK
* checking index information ... OK
* checking package subdirectories ... OK
* checking R files for non-ASCII characters ... OK
* checking R files for syntax errors ... OK
* checking whether the package can be loaded ... OK
* checking whether the package can be loaded with stated dependencies ... OK
* checking whether the package can be unloaded cleanly ... OK
* checking whether the namespace can be loaded with stated dependencies ... OK
* checking whether the namespace can be unloaded cleanly ... OK
* checking dependencies in R code ... OK
* checking S3 generic/method consistency ... OK
* checking replacement functions ... OK
* checking foreign function calls ... OK
* checking R code for possible problems ... NOTE
.GTF2LE: no visible binding for global variable 'group_name'
.GTF2refUTRraw: no visible binding for global variable 'GENEID'
APABox: no visible binding for global variable 'APAreg'
APABox: no visible binding for global variable 'RED'
APAVolcano: no visible binding for global variable 'APAreg'
APAVolcano: no visible binding for global variable 'color'
download_testbam: no visible global function definition for
'download.file'
Undefined global functions or variables:
APAreg GENEID RED color download.file group_name
Consider adding
importFrom("utils", "download.file")
to your NAMESPACE file.
* checking Rd files ... NOTE
prepare_Rd: download_testbam.Rd:7-8: Dropping empty section \arguments
* checking Rd metadata ... OK
* checking Rd cross-references ... OK
* checking for missing documentation entries ... OK
* checking for code/documentation mismatches ... SKIPPED
* checking Rd \usage sections ... OK
* checking Rd contents ... OK
* checking for unstated dependencies in examples ... OK
* checking files in ‘vignettes’ ... SKIPPED
* checking examples ... SKIPPED
* checking for unstated dependencies in ‘longtests’ ... OK
* checking tests in ‘longtests’ ...
Running ‘runTests.R’
OK
* DONE
Status: 4 NOTEs
See
‘/Users/biocbuild/bbs-3.11-bioc-longtests/meat/APAlyzer.Rcheck/00check.log’
for details.
APAlyzer.Rcheck/00install.out
* installing *source* package ‘APAlyzer’ ... ** using staged installation ** R ** inst ** byte-compile and prepare package for lazy loading ** help *** installing help indices ** building package indices ** installing vignettes ** testing if installed package can be loaded from temporary location ** testing if installed package can be loaded from final location ** testing if installed package keeps a record of temporary installation path * DONE (APAlyzer)