| Back to Long Tests report for BioC 3.11 |
This page was generated on 2020-10-10 17:30:04 -0400 (Sat, 10 Oct 2020).
| SUMMARY | OS / Arch | CHECK | |||||
| [malbec2] | Linux (Ubuntu 18.04.4 LTS) / x86_64 |
| |||||
| tokay2 | Windows Server 2012 R2 Standard / x64 |
| |||||
| machv2 | macOS 10.14.6 Mojave / x86_64 |
| |||||
| Package | Maintainer | CHECK | |||||
| 1/7 | APAlyzer 1.2.0 | Ruijia Wang | OK | ||||
| 2/7 | beachmat 2.4.0 | Aaron Lun | OK | ||||
| 3/7 | cBioPortalData 2.0.10 | Marcel Ramos | ERROR | ||||
| 4/7 | GenomicFeatures 1.40.1 | Bioconductor Package Maintainer | WARNINGS | ||||
| 5/7 | HDF5Array 1.16.1 | Hervé Pagès | OK | ||||
| 6/7 | rhdf5 2.32.4 | Mike Smith | OK | ||||
| 7/7 | xcms 3.10.2 | Steffen Neumann | OK | ||||