| Back to Multiple platform build/check report for BioC 3.11 |
|
This page was generated on 2020-10-17 11:56:01 -0400 (Sat, 17 Oct 2020).
| TO THE DEVELOPERS/MAINTAINERS OF THE xcms PACKAGE: Please make sure to use the following settings in order to reproduce any error or warning you see on this page. |
| Package 1892/1905 | Hostname | OS / Arch | INSTALL | BUILD | CHECK | BUILD BIN | ||||||
| xcms 3.10.2 Steffen Neumann
| malbec2 | Linux (Ubuntu 18.04.4 LTS) / x86_64 | OK | OK | [ OK ] | |||||||
| tokay2 | Windows Server 2012 R2 Standard / x64 | OK | OK | OK | NA | |||||||
| machv2 | macOS 10.14.6 Mojave / x86_64 | OK | TIMEOUT | skipped | skipped |
| Package: xcms |
| Version: 3.10.2 |
| Command: /home/biocbuild/bbs-3.11-bioc/R/bin/R CMD check --install=check:xcms.install-out.txt --library=/home/biocbuild/bbs-3.11-bioc/R/library --no-vignettes --timings xcms_3.10.2.tar.gz |
| StartedAt: 2020-10-17 06:29:37 -0400 (Sat, 17 Oct 2020) |
| EndedAt: 2020-10-17 06:43:27 -0400 (Sat, 17 Oct 2020) |
| EllapsedTime: 830.3 seconds |
| RetCode: 0 |
| Status: OK |
| CheckDir: xcms.Rcheck |
| Warnings: 0 |
##############################################################################
##############################################################################
###
### Running command:
###
### /home/biocbuild/bbs-3.11-bioc/R/bin/R CMD check --install=check:xcms.install-out.txt --library=/home/biocbuild/bbs-3.11-bioc/R/library --no-vignettes --timings xcms_3.10.2.tar.gz
###
##############################################################################
##############################################################################
* using log directory ‘/home/biocbuild/bbs-3.11-bioc/meat/xcms.Rcheck’
* using R version 4.0.3 (2020-10-10)
* using platform: x86_64-pc-linux-gnu (64-bit)
* using session charset: UTF-8
* using option ‘--no-vignettes’
* checking for file ‘xcms/DESCRIPTION’ ... OK
* this is package ‘xcms’ version ‘3.10.2’
* checking package namespace information ... OK
* checking package dependencies ... OK
* checking if this is a source package ... OK
* checking if there is a namespace ... OK
* checking for hidden files and directories ... NOTE
Found the following hidden files and directories:
.BBSoptions
These were most likely included in error. See section ‘Package
structure’ in the ‘Writing R Extensions’ manual.
* checking for portable file names ... OK
* checking for sufficient/correct file permissions ... OK
* checking whether package ‘xcms’ can be installed ... OK
* checking installed package size ... NOTE
installed size is 6.3Mb
sub-directories of 1Mb or more:
R 3.1Mb
libs 2.0Mb
* checking package directory ... OK
* checking ‘build’ directory ... OK
* checking DESCRIPTION meta-information ... NOTE
License components with restrictions not permitted:
GPL (>= 2) + file LICENSE
Package listed in more than one of Depends, Imports, Suggests, Enhances:
‘MSnbase’
A package should be listed in only one of these fields.
* checking top-level files ... OK
* checking for left-over files ... OK
* checking index information ... OK
* checking package subdirectories ... OK
* checking R files for non-ASCII characters ... OK
* checking R files for syntax errors ... OK
* checking whether the package can be loaded ... OK
* checking whether the package can be loaded with stated dependencies ... OK
* checking whether the package can be unloaded cleanly ... OK
* checking whether the namespace can be loaded with stated dependencies ... OK
* checking whether the namespace can be unloaded cleanly ... OK
* checking dependencies in R code ... NOTE
Unexported objects imported by ':::' calls:
‘MALDIquant:::.localMaxima’ ‘MSnbase:::.MSnExpReqFvarLabels’
‘MSnbase:::.plotXIC’ ‘MSnbase:::.vertical_sub_layout’
‘MSnbase:::formatFileSpectrumNames’
See the note in ?`:::` about the use of this operator.
There are ::: calls to the package's namespace in its code. A package
almost never needs to use ::: for its own objects:
‘.correlate_chromatogram’ ‘.get_closest_index’
‘.validChromPeaksMatrix’ ‘MSW.cwt’ ‘MSW.getLocalMaximumCWT’
‘MSW.getRidge’ ‘descendMin’ ‘descendMinTol’ ‘estimateChromNoise’
‘getLocalNoiseEstimate’ ‘na.flatfill’ ‘patternVsRowScore’
* checking S3 generic/method consistency ... OK
* checking replacement functions ... OK
* checking foreign function calls ... OK
* checking R code for possible problems ... NOTE
.xcmsFragments.plotTree: no visible global function definition for
‘edgemode<-’
.xcmsFragments.plotTree: no visible global function definition for
‘addEdge’
buildAnalysisSummary: no visible global function definition for
‘newXMLNode’
buildAssayList : <anonymous>: no visible global function definition for
‘newXMLNode’
buildAssayList: no visible global function definition for ‘newXMLNode’
buildAuditCollection: no visible global function definition for
‘newXMLNode’
buildCVlist: no visible global function definition for ‘newXMLNode’
buildCVlist: no visible global function definition for ‘addChildren’
buildCvParams : <anonymous>: no visible global function definition for
‘newXMLNode’
buildDataProcessingList: no visible global function definition for
‘newXMLNode’
buildFeatureList : <anonymous>: no visible global function definition
for ‘newXMLNode’
buildInputFiles : <anonymous>: no visible global function definition
for ‘newXMLNode’
buildInputFiles: no visible global function definition for ‘newXMLNode’
buildMzq: no visible global function definition for ‘xmlTree’
buildSmallMoleculeList : <anonymous>: no visible global function
definition for ‘newXMLNode’
buildSmallMoleculeList: no visible global function definition for
‘newXMLNode’
buildSoftwareList: no visible global function definition for
‘newXMLNode’
buildStudyVariableList : <anonymous>: no visible global function
definition for ‘newXMLNode’
buildStudyVariableList : <anonymous> : <anonymous>: no visible global
function definition for ‘newXMLNode’
buildStudyVariableList: no visible global function definition for
‘newXMLNode’
running: multiple local function definitions for ‘funct’ with different
formal arguments
verify.mzQuantML: no visible global function definition for
‘xmlTreeParse’
verify.mzQuantML: no visible global function definition for
‘xmlInternalTreeParse’
verify.mzQuantML: no visible global function definition for
‘xmlSchemaValidate’
xcmsClusterApply: no visible global function definition for
‘checkCluster’
xcmsClusterApply : submit: no visible global function definition for
‘sendCall’
xcmsClusterApply: no visible global function definition for
‘recvOneResult’
xcmsClusterApply: no visible global function definition for
‘checkForRemoteErrors’
xcmsPapply: no visible global function definition for ‘mpi.comm.size’
xcmsPapply: no visible global function definition for
‘mpi.spawn.Rslaves’
xcmsPapply: no visible global function definition for ‘mpi.comm.rank’
xcmsPapply : papply_int_slavefunction: no visible global function
definition for ‘mpi.send.Robj’
xcmsPapply : papply_int_slavefunction: no visible global function
definition for ‘mpi.recv.Robj’
xcmsPapply : papply_int_slavefunction: no visible global function
definition for ‘mpi.any.source’
xcmsPapply : papply_int_slavefunction: no visible global function
definition for ‘mpi.any.tag’
xcmsPapply : papply_int_slavefunction: no visible global function
definition for ‘mpi.get.sourcetag’
xcmsPapply: no visible global function definition for
‘mpi.bcast.Robj2slave’
xcmsPapply: no visible global function definition for ‘mpi.bcast.cmd’
xcmsPapply: no visible global function definition for ‘mpi.recv.Robj’
xcmsPapply: no visible global function definition for ‘mpi.any.source’
xcmsPapply: no visible global function definition for ‘mpi.any.tag’
xcmsPapply: no visible global function definition for
‘mpi.get.sourcetag’
xcmsPapply: no visible global function definition for ‘mpi.send.Robj’
xcmsParallelSetup: no visible global function definition for
‘mpi.spawn.Rslaves’
xcmsParallelSetup: no visible global function definition for
‘mpi.comm.size’
xcmsParallelSetup: no visible global function definition for
‘mpi.comm.rank’
xcmsParallelSetup: no visible global function definition for
‘makeCluster’
plotSurf,xcmsRaw: no visible global function definition for ‘rgl.clear’
plotSurf,xcmsRaw: no visible global function definition for
‘rgl.surface’
plotSurf,xcmsRaw: no visible global function definition for
‘rgl.points’
plotSurf,xcmsRaw: no visible global function definition for ‘rgl.bbox’
plotTree,xcmsFragments: no visible global function definition for
‘edgemode<-’
plotTree,xcmsFragments: no visible global function definition for
‘addEdge’
write.cdf,xcmsRaw: no visible global function definition for
‘ncdim_def’
write.cdf,xcmsRaw: no visible global function definition for
‘ncvar_def’
write.cdf,xcmsRaw: no visible global function definition for
‘nc_create’
write.cdf,xcmsRaw: no visible global function definition for
‘ncvar_put’
write.cdf,xcmsRaw: no visible global function definition for
‘ncatt_put’
write.cdf,xcmsRaw: no visible global function definition for ‘nc_close’
write.mzQuantML,xcmsSet: no visible global function definition for
‘saveXML’
write.mzdata,xcmsRaw: no visible global function definition for
‘base64encode’
Undefined global functions or variables:
addChildren addEdge base64encode checkCluster checkForRemoteErrors
edgemode<- makeCluster mpi.any.source mpi.any.tag
mpi.bcast.Robj2slave mpi.bcast.cmd mpi.comm.rank mpi.comm.size
mpi.get.sourcetag mpi.recv.Robj mpi.send.Robj mpi.spawn.Rslaves
nc_close nc_create ncatt_put ncdim_def ncvar_def ncvar_put newXMLNode
recvOneResult rgl.bbox rgl.clear rgl.points rgl.surface saveXML
sendCall xmlInternalTreeParse xmlSchemaValidate xmlTree xmlTreeParse
* checking Rd files ... OK
* checking Rd metadata ... OK
* checking Rd cross-references ... OK
* checking for missing documentation entries ... OK
* checking for code/documentation mismatches ... OK
* checking Rd \usage sections ... OK
* checking Rd contents ... OK
* checking for unstated dependencies in examples ... OK
* checking line endings in C/C++/Fortran sources/headers ... OK
* checking line endings in Makefiles ... OK
* checking compilation flags in Makevars ... OK
* checking for GNU extensions in Makefiles ... OK
* checking for portable use of $(BLAS_LIBS) and $(LAPACK_LIBS) ... OK
* checking use of PKG_*FLAGS in Makefiles ... OK
* checking compiled code ... NOTE
Note: information on .o files is not available
* checking files in ‘vignettes’ ... OK
* checking examples ... OK
Examples with CPU (user + system) or elapsed time > 5s
user system elapsed
plotChromPeakDensity 7.362 0.052 7.414
refineChromPeaks-merge 7.118 0.032 7.150
XCMSnExp-class 6.640 0.422 7.058
adjustRtime-obiwarp 6.930 0.120 7.057
fillChromPeaks 6.906 0.004 6.909
findPeaks.massifquant-methods 5.985 0.046 6.031
chromatogram-method 5.971 0.024 5.995
findChromPeaks-Chromatogram-CentWaveParam 5.657 0.020 5.676
XChromatogram 5.066 0.040 5.106
* checking for unstated dependencies in ‘tests’ ... OK
* checking tests ...
Running ‘testthat.R’
OK
* checking for unstated dependencies in vignettes ... OK
* checking package vignettes in ‘inst/doc’ ... OK
* checking running R code from vignettes ... SKIPPED
* checking re-building of vignette outputs ... SKIPPED
* checking PDF version of manual ... OK
* DONE
Status: 6 NOTEs
See
‘/home/biocbuild/bbs-3.11-bioc/meat/xcms.Rcheck/00check.log’
for details.
xcms.Rcheck/00install.out
##############################################################################
##############################################################################
###
### Running command:
###
### /home/biocbuild/bbs-3.11-bioc/R/bin/R CMD INSTALL xcms
###
##############################################################################
##############################################################################
* installing to library ‘/home/biocbuild/bbs-3.11-bioc/R/library’
* installing *source* package ‘xcms’ ...
** using staged installation
** libs
rm -f massifquant/xcms_massifquant.o massifquant/TrMgr.o massifquant/Tracker.o massifquant/SegProc.o massifquant/DataKeeper.o massifquant/OpOverload.o obiwarp/mat.o obiwarp/vec.o obiwarp/xcms_dynprog.o obiwarp/xcms_lmat.o xcms_obiwarp.o fastMatch.o mzClust_hclust.o mzROI.o util.o xcms.o binners.o
g++ -std=gnu++11 -I"/home/biocbuild/bbs-3.11-bioc/R/include" -DNDEBUG -I/usr/local/include -fpic -g -O2 -Wall -c massifquant/xcms_massifquant.cpp -o massifquant/xcms_massifquant.o
g++ -std=gnu++11 -I"/home/biocbuild/bbs-3.11-bioc/R/include" -DNDEBUG -I/usr/local/include -fpic -g -O2 -Wall -c massifquant/TrMgr.cpp -o massifquant/TrMgr.o
g++ -std=gnu++11 -I"/home/biocbuild/bbs-3.11-bioc/R/include" -DNDEBUG -I/usr/local/include -fpic -g -O2 -Wall -c massifquant/Tracker.cpp -o massifquant/Tracker.o
g++ -std=gnu++11 -I"/home/biocbuild/bbs-3.11-bioc/R/include" -DNDEBUG -I/usr/local/include -fpic -g -O2 -Wall -c massifquant/SegProc.cpp -o massifquant/SegProc.o
g++ -std=gnu++11 -I"/home/biocbuild/bbs-3.11-bioc/R/include" -DNDEBUG -I/usr/local/include -fpic -g -O2 -Wall -c massifquant/DataKeeper.cpp -o massifquant/DataKeeper.o
g++ -std=gnu++11 -I"/home/biocbuild/bbs-3.11-bioc/R/include" -DNDEBUG -I/usr/local/include -fpic -g -O2 -Wall -c massifquant/OpOverload.cpp -o massifquant/OpOverload.o
g++ -std=gnu++11 -I"/home/biocbuild/bbs-3.11-bioc/R/include" -DNDEBUG -I/usr/local/include -fpic -g -O2 -Wall -c obiwarp/mat.cpp -o obiwarp/mat.o
g++ -std=gnu++11 -I"/home/biocbuild/bbs-3.11-bioc/R/include" -DNDEBUG -I/usr/local/include -fpic -g -O2 -Wall -c obiwarp/vec.cpp -o obiwarp/vec.o
g++ -std=gnu++11 -I"/home/biocbuild/bbs-3.11-bioc/R/include" -DNDEBUG -I/usr/local/include -fpic -g -O2 -Wall -c obiwarp/xcms_dynprog.cpp -o obiwarp/xcms_dynprog.o
obiwarp/xcms_dynprog.cpp: In member function ‘void DynProg::find_path(VEC::MatF&, VEC::VecF&, int, float, float, int, float)’:
obiwarp/xcms_dynprog.cpp:1113:9: warning: variable ‘bestscore’ set but not used [-Wunused-but-set-variable]
float bestscore;
^~~~~~~~~
g++ -std=gnu++11 -I"/home/biocbuild/bbs-3.11-bioc/R/include" -DNDEBUG -I/usr/local/include -fpic -g -O2 -Wall -c obiwarp/xcms_lmat.cpp -o obiwarp/xcms_lmat.o
g++ -std=gnu++11 -I"/home/biocbuild/bbs-3.11-bioc/R/include" -DNDEBUG -I/usr/local/include -fpic -g -O2 -Wall -c xcms_obiwarp.cpp -o xcms_obiwarp.o
gcc -I"/home/biocbuild/bbs-3.11-bioc/R/include" -DNDEBUG -I/usr/local/include -fpic -g -O2 -Wall -c fastMatch.c -o fastMatch.o
gcc -I"/home/biocbuild/bbs-3.11-bioc/R/include" -DNDEBUG -I/usr/local/include -fpic -g -O2 -Wall -c mzClust_hclust.c -o mzClust_hclust.o
gcc -I"/home/biocbuild/bbs-3.11-bioc/R/include" -DNDEBUG -I/usr/local/include -fpic -g -O2 -Wall -c mzROI.c -o mzROI.o
gcc -I"/home/biocbuild/bbs-3.11-bioc/R/include" -DNDEBUG -I/usr/local/include -fpic -g -O2 -Wall -c util.c -o util.o
gcc -I"/home/biocbuild/bbs-3.11-bioc/R/include" -DNDEBUG -I/usr/local/include -fpic -g -O2 -Wall -c xcms.c -o xcms.o
gcc -I"/home/biocbuild/bbs-3.11-bioc/R/include" -DNDEBUG -I/usr/local/include -fpic -g -O2 -Wall -c binners.c -o binners.o
binners.c: In function ‘_breaks_on_binSize’:
binners.c:357:7: warning: unused variable ‘idx’ [-Wunused-variable]
int idx = 0;
^~~
g++ -std=gnu++11 -shared -L/home/biocbuild/bbs-3.11-bioc/R/lib -L/usr/local/lib -o xcms.so massifquant/xcms_massifquant.o massifquant/TrMgr.o massifquant/Tracker.o massifquant/SegProc.o massifquant/DataKeeper.o massifquant/OpOverload.o obiwarp/mat.o obiwarp/vec.o obiwarp/xcms_dynprog.o obiwarp/xcms_lmat.o xcms_obiwarp.o fastMatch.o mzClust_hclust.o mzROI.o util.o xcms.o binners.o -L/home/biocbuild/bbs-3.11-bioc/R/lib -lR
installing to /home/biocbuild/bbs-3.11-bioc/R/library/00LOCK-xcms/00new/xcms/libs
** R
** inst
** byte-compile and prepare package for lazy loading
Creating a new generic function for ‘sigma’ in package ‘xcms’
Creating a generic function from function ‘hasFilledChromPeaks’ in package ‘xcms’
** help
*** installing help indices
** building package indices
** installing vignettes
** testing if installed package can be loaded from temporary location
** checking absolute paths in shared objects and dynamic libraries
** testing if installed package can be loaded from final location
** testing if installed package keeps a record of temporary installation path
* DONE (xcms)
xcms.Rcheck/tests/testthat.Rout
R version 4.0.3 (2020-10-10) -- "Bunny-Wunnies Freak Out"
Copyright (C) 2020 The R Foundation for Statistical Computing
Platform: x86_64-pc-linux-gnu (64-bit)
R is free software and comes with ABSOLUTELY NO WARRANTY.
You are welcome to redistribute it under certain conditions.
Type 'license()' or 'licence()' for distribution details.
R is a collaborative project with many contributors.
Type 'contributors()' for more information and
'citation()' on how to cite R or R packages in publications.
Type 'demo()' for some demos, 'help()' for on-line help, or
'help.start()' for an HTML browser interface to help.
Type 'q()' to quit R.
> library(testthat)
> library(xcms)
Loading required package: Biobase
Loading required package: BiocGenerics
Loading required package: parallel
Attaching package: 'BiocGenerics'
The following objects are masked from 'package:parallel':
clusterApply, clusterApplyLB, clusterCall, clusterEvalQ,
clusterExport, clusterMap, parApply, parCapply, parLapply,
parLapplyLB, parRapply, parSapply, parSapplyLB
The following objects are masked from 'package:stats':
IQR, mad, sd, var, xtabs
The following objects are masked from 'package:base':
Filter, Find, Map, Position, Reduce, anyDuplicated, append,
as.data.frame, basename, cbind, colnames, dirname, do.call,
duplicated, eval, evalq, get, grep, grepl, intersect, is.unsorted,
lapply, mapply, match, mget, order, paste, pmax, pmax.int, pmin,
pmin.int, rank, rbind, rownames, sapply, setdiff, sort, table,
tapply, union, unique, unsplit, which, which.max, which.min
Welcome to Bioconductor
Vignettes contain introductory material; view with
'browseVignettes()'. To cite Bioconductor, see
'citation("Biobase")', and for packages 'citation("pkgname")'.
Loading required package: BiocParallel
Loading required package: MSnbase
Loading required package: mzR
Loading required package: Rcpp
Loading required package: S4Vectors
Loading required package: stats4
Attaching package: 'S4Vectors'
The following object is masked from 'package:base':
expand.grid
Loading required package: ProtGenerics
Attaching package: 'ProtGenerics'
The following object is masked from 'package:stats':
smooth
This is MSnbase version 2.14.2
Visit https://lgatto.github.io/MSnbase/ to get started.
Attaching package: 'MSnbase'
The following object is masked from 'package:base':
trimws
This is xcms version 3.10.2
Attaching package: 'xcms'
The following object is masked from 'package:stats':
sigma
> library(faahKO)
> library(msdata)
>
> if (.Platform$OS.type == "unix") {
+ prm <- MulticoreParam(3)
+ } else {
+ prm <- SnowParam(3)
+ }
> register(bpstart(prm))
> ## register(SerialParam())
>
> ## Create some objects we can re-use in different tests:
> faahko_3_files <- c(system.file('cdf/KO/ko15.CDF', package = "faahKO"),
+ system.file('cdf/KO/ko16.CDF', package = "faahKO"),
+ system.file('cdf/KO/ko18.CDF', package = "faahKO"))
>
> faahko_od <- readMSData(faahko_3_files, mode = "onDisk")
Polarity can not be extracted from netCDF files, please set manually the polarity with the 'polarity' method.
> faahko_xod <- findChromPeaks(
+ faahko_od, param = CentWaveParam(noise = 10000, snthresh = 40,
+ prefilter = c(3, 10000)))
Detecting mass traces at 25 ppm ... OK
Detecting chromatographic peaks in 919 regions of interest ... OK: 61 found.
Detecting mass traces at 25 ppm ... OK
Detecting chromatographic peaks in 937 regions of interest ... OK: 87 found.
Detecting mass traces at 25 ppm ... OK
Detecting chromatographic peaks in 1025 regions of interest ... OK: 100 found.
> od_x <- faahko_od
> mzr <- matrix(c(335, 335, 344, 344), ncol = 2, byrow = TRUE)
> od_chrs <- chromatogram(od_x, mz = mzr)
> xod_x <- faahko_xod
> pdp <- PeakDensityParam(sampleGroups = rep(1, 3))
> xod_xg <- groupChromPeaks(xod_x, param = pdp)
Processing 2572 mz slices ... OK
> xod_xgr <- adjustRtime(xod_xg, param = PeakGroupsParam(span = 0.4))
Performing retention time correction using 19 peak groups.
Applying retention time adjustment to the identified chromatographic peaks ... OK
> xod_xgrg <- groupChromPeaks(xod_xgr, param = pdp)
Processing 2572 mz slices ... OK
> xod_r <- adjustRtime(as(od_x, "XCMSnExp"), param = ObiwarpParam())
Sample number 2 used as center sample.
Aligning ko15.CDF against ko16.CDF ... OK
Aligning ko18.CDF against ko16.CDF ... OK
>
> xod_chr <- findChromPeaks(filterMz(filterRt(od_x, rt = c(2500, 3500)),
+ mz = c(334.9, 344.1)),
+ param = CentWaveParam())
Detecting mass traces at 25 ppm ... OK
Detecting chromatographic peaks in 515 regions of interest ... OK: 20 found.
Detecting mass traces at 25 ppm ... OK
Detecting chromatographic peaks in 551 regions of interest ... OK: 29 found.
Detecting mass traces at 25 ppm ... OK
Detecting chromatographic peaks in 514 regions of interest ... OK: 23 found.
Warning message:
In .local(object, param, ...) :
Your data appears to be not centroided! CentWave works best on data in centroid mode.
>
> microtofq_fs <- c(system.file("microtofq/MM14.mzML", package = "msdata"),
+ system.file("microtofq/MM8.mzML", package = "msdata"))
> microtofq_od <- readMSData(microtofq_fs, mode = "onDisk")
>
> ## Direct injection data:
> fticrf <- list.files(system.file("fticr", package = "msdata"),
+ recursive = TRUE, full.names = TRUE)
> fticr <- readMSData(fticrf[1:2], msLevel. = 1, mode = "onDisk")
> fticr_xod <- findChromPeaks(fticr, MSWParam(scales = c(1, 7),
+ peakThr = 80000, ampTh = 0.005,
+ SNR.method = "data.mean",
+ winSize.noise = 500))
> ## Pesticide data
> fl <- system.file("TripleTOF-SWATH", "PestMix1_SWATH.mzML", package = "msdata")
> pest_swth <- readMSData(fl, mode = "onDisk")
> cwp <- CentWaveParam(snthresh = 5, noise = 100, ppm = 10,
+ peakwidth = c(3, 20))
> pest_swth <- findChromPeaks(pest_swth, param = cwp)
Detecting mass traces at 10 ppm ... OK
Detecting chromatographic peaks in 69 regions of interest ... OK: 63 found.
> pest_swth <- findChromPeaksIsolationWindow(pest_swth, param = cwp)
Detecting mass traces at 10 ppm ... OK
Detecting chromatographic peaks in 5 regions of interest ... OK: 5 found.
Detecting mass traces at 10 ppm ... OK
Detecting chromatographic peaks in 32 regions of interest ... OK: 31 found.
Detecting mass traces at 10 ppm ... OK
Detecting chromatographic peaks in 29 regions of interest ... OK: 21 found.
Detecting mass traces at 10 ppm ... OK
Detecting chromatographic peaks in 13 regions of interest ... OK: 10 found.
Detecting mass traces at 10 ppm ... OK
Detecting chromatographic peaks in 92 regions of interest ... OK: 83 found.
Detecting mass traces at 10 ppm ... OK
Detecting chromatographic peaks in 20 regions of interest ... OK: 18 found.
Detecting mass traces at 10 ppm ... OK
Detecting chromatographic peaks in 56 regions of interest ... OK: 48 found.
Detecting mass traces at 10 ppm ... OK
Detecting chromatographic peaks in 29 regions of interest ... OK: 29 found.
>
> fl <- system.file("TripleTOF-SWATH", "PestMix1_DDA.mzML", package = "msdata")
> pest_dda <- readMSData(fl, mode = "onDisk")
> pest_dda <- findChromPeaks(pest_dda, param = cwp)
Detecting mass traces at 10 ppm ... OK
Detecting chromatographic peaks in 101 regions of interest ... OK: 97 found.
>
> ## Sciex test data.
> ## fl <- dir(system.file("sciex", package = "msdata"), full.names = TRUE)
> ## sciex_data <- readMSData(fl, mode = "onDisk")
> ## sciex_data <- pickPeaks(sciex_data)
>
> test_check("xcms")
Object of class: CleanPeaksParam
Parameters:
maxPeakwidth: 13.2
Object of class: MergeNeighboringPeaksParam
Parameters:
expandRt: 5
expandMz: 0.1
ppm: 20
minProp: 0.9
8.00 16.00 24.00 28.00 32.00 40.00 48.00 52.00 56.00 60.00 64.00 72.00 80.00 84.00 88.00 96.00 100.00
8.00 16.00 28.00 32.00 40.00 64.00 80.00 96.00 100.00
Error in x$.self$finalize() : attempt to apply non-function
Error in x$.self$finalize() : attempt to apply non-function
Error in x$.self$finalize() : attempt to apply non-function
Error in x$.self$finalize() : attempt to apply non-function
Error in x$.self$finalize() : attempt to apply non-function
Error in x$.self$finalize() : attempt to apply non-function
Error in x$.self$finalize() : attempt to apply non-function
Error in x$.self$finalize() : attempt to apply non-function
Error in x$.self$finalize() : attempt to apply non-function
Error in x$.self$finalize() : attempt to apply non-function
8.00 16.00 24.00 28.00 32.00 40.00 48.00 52.00 56.00 60.00 64.00 72.00 80.00 84.00 88.00 96.00 100.00
8.00 16.00 28.00 32.00 40.00 56.00 64.00 80.00 88.00 96.00 100.00
8.00 16.00 24.00 28.00 32.00 40.00 48.00 52.00 56.00 60.00 64.00 72.00 80.00 84.00 88.00 96.00 100.00
Object of class: XChromatogram
length of object: 0
from file:
mz range: [NA, NA]
MS level: 1
Identified chromatographic peaks (0):
rt rtmin rtmax into maxo sn
══ testthat results ═══════════════════════════════════════════════════════════
[ OK: 2582 | SKIPPED: 7 | WARNINGS: 684 | FAILED: 0 ]
>
> proc.time()
user system elapsed
329.209 5.354 413.044
xcms.Rcheck/xcms-Ex.timings
| name | user | system | elapsed | |
| AutoLockMass-methods | 0 | 0 | 0 | |
| GenericParam | 0.028 | 0.000 | 0.029 | |
| XCMSnExp-class | 6.640 | 0.422 | 7.058 | |
| XCMSnExp-filter-methods | 4.125 | 0.008 | 4.133 | |
| XChromatogram | 5.066 | 0.040 | 5.106 | |
| adjustRtime-obiwarp | 6.930 | 0.120 | 7.057 | |
| adjustRtime-peakGroups | 4.787 | 0.060 | 4.847 | |
| align-Chromatogram | 0.009 | 0.000 | 0.009 | |
| binYonX | 0.002 | 0.000 | 0.001 | |
| breaks_on_binSize | 0.002 | 0.000 | 0.001 | |
| breaks_on_nBins | 0.001 | 0.000 | 0.000 | |
| chromPeakSpectra | 4.581 | 0.096 | 4.857 | |
| chromatogram-method | 5.971 | 0.024 | 5.995 | |
| descendZero | 0.001 | 0.000 | 0.001 | |
| do_findChromPeaks_centWave | 1.88 | 0.00 | 1.88 | |
| do_findChromPeaks_massifquant | 2.996 | 0.000 | 2.996 | |
| do_findChromPeaks_matchedFilter | 2.998 | 0.024 | 3.022 | |
| do_groupChromPeaks_density | 1.337 | 0.000 | 1.337 | |
| extractMsData-method | 1.959 | 0.104 | 2.064 | |
| featureChromatograms | 4.620 | 0.060 | 4.681 | |
| fillChromPeaks | 6.906 | 0.004 | 6.909 | |
| findChromPeaks-Chromatogram-CentWaveParam | 5.657 | 0.020 | 5.676 | |
| findChromPeaks-Chromatogram-MatchedFilter | 1.537 | 0.004 | 1.542 | |
| findChromPeaks-centWave | 4.669 | 0.016 | 4.685 | |
| findChromPeaks-centWaveWithPredIsoROIs | 0.030 | 0.000 | 0.031 | |
| findChromPeaks-massifquant | 2.217 | 0.012 | 2.230 | |
| findChromPeaks-matchedFilter | 1.819 | 0.000 | 1.820 | |
| findMZ | 0 | 0 | 0 | |
| findPeaks-MSW | 1.202 | 0.001 | 1.258 | |
| findPeaks.massifquant-methods | 5.985 | 0.046 | 6.031 | |
| findneutral | 0 | 0 | 0 | |
| group.mzClust | 0 | 0 | 0 | |
| group.nearest | 0.000 | 0.000 | 0.001 | |
| groupChromPeaks-density | 2.367 | 0.000 | 2.367 | |
| groupChromPeaks-mzClust | 2.357 | 0.000 | 2.358 | |
| groupChromPeaks-nearest | 4.377 | 0.012 | 4.390 | |
| groupOverlaps | 0.001 | 0.000 | 0.000 | |
| imputeLinInterpol | 0.006 | 0.000 | 0.005 | |
| imputeRowMin | 1.305 | 0.000 | 1.305 | |
| imputeRowMinRand | 1.440 | 0.008 | 1.447 | |
| medianFilter | 0 | 0 | 0 | |
| msn2xcmsRaw | 1.109 | 0.015 | 1.190 | |
| overlappingFeatures | 4.728 | 0.004 | 4.731 | |
| peakTable-methods | 0.000 | 0.000 | 0.001 | |
| peaksWithCentWave | 1.644 | 0.000 | 1.644 | |
| peaksWithMatchedFilter | 1.422 | 0.000 | 1.422 | |
| phenoDataFromPaths | 0 | 0 | 0 | |
| plotAdjustedRtime | 4.412 | 0.004 | 4.416 | |
| plotChromPeakDensity | 7.362 | 0.052 | 7.414 | |
| plotChromPeaks | 4.056 | 0.016 | 4.073 | |
| plotMsData | 1.676 | 0.008 | 1.684 | |
| plotQC | 1.545 | 0.008 | 1.553 | |
| profGenerate | 0 | 0 | 0 | |
| profMat-xcmsSet | 1.040 | 0.032 | 1.072 | |
| profStep-methods | 0 | 0 | 0 | |
| rectUnique | 0.002 | 0.000 | 0.002 | |
| refineChromPeaks-clean | 1.794 | 0.028 | 1.870 | |
| refineChromPeaks-merge | 7.118 | 0.032 | 7.150 | |
| rla | 0.002 | 0.000 | 0.002 | |
| stitch-methods | 0.001 | 0.000 | 0.000 | |
| sub-xcmsRaw-logicalOrNumeric-missing-missing-method | 0.904 | 0.000 | 0.904 | |
| writeMzTab | 1.317 | 0.028 | 1.345 | |
| xcmsPapply | 0 | 0 | 0 | |
| xcmsRaw | 0.001 | 0.000 | 0.000 | |