| Back to Multiple platform build/check report for BioC 3.11 |
|
This page was generated on 2020-10-16 11:59:10 -0400 (Fri, 16 Oct 2020).
| TO THE DEVELOPERS/MAINTAINERS OF THE widgetTools PACKAGE: Please make sure to use the following settings in order to reproduce any error or warning you see on this page. |
| Package 1887/1905 | Hostname | OS / Arch | INSTALL | BUILD | CHECK | BUILD BIN | ||||||
| widgetTools 1.66.0 Jianhua Zhang
| malbec2 | Linux (Ubuntu 18.04.4 LTS) / x86_64 | OK | OK | OK | |||||||
| tokay2 | Windows Server 2012 R2 Standard / x64 | OK | OK | OK | [ OK ] | |||||||
| machv2 | macOS 10.14.6 Mojave / x86_64 | OK | OK | OK | OK |
| Package: widgetTools |
| Version: 1.66.0 |
| Command: rm -rf widgetTools.buildbin-libdir && mkdir widgetTools.buildbin-libdir && C:\Users\biocbuild\bbs-3.11-bioc\R\bin\R.exe CMD INSTALL --merge-multiarch --build --library=widgetTools.buildbin-libdir widgetTools_1.66.0.tar.gz |
| StartedAt: 2020-10-16 11:34:27 -0400 (Fri, 16 Oct 2020) |
| EndedAt: 2020-10-16 11:34:44 -0400 (Fri, 16 Oct 2020) |
| EllapsedTime: 16.4 seconds |
| RetCode: 0 |
| Status: OK |
| PackageFile: widgetTools_1.66.0.zip |
| PackageFileSize: 375.8 KiB |
##############################################################################
##############################################################################
###
### Running command:
###
### rm -rf widgetTools.buildbin-libdir && mkdir widgetTools.buildbin-libdir && C:\Users\biocbuild\bbs-3.11-bioc\R\bin\R.exe CMD INSTALL --merge-multiarch --build --library=widgetTools.buildbin-libdir widgetTools_1.66.0.tar.gz
###
##############################################################################
##############################################################################
install for i386
* installing *source* package 'widgetTools' ...
** using staged installation
** R
** inst
** byte-compile and prepare package for lazy loading
** help
*** installing help indices
converting help for package 'widgetTools'
finding HTML links ... done
basicPW-class html
button html
dropdownList html
makeViewer html
oneVScrList html
safeFileOpen html
tooltip html
widget-class html
widgetView-class html
writeText html
** building package indices
** installing vignettes
** testing if installed package can be loaded from temporary location
** testing if installed package can be loaded from final location
** testing if installed package keeps a record of temporary installation path
install for x64
* installing *source* package 'widgetTools' ...
** testing if installed package can be loaded
* MD5 sums
packaged installation of 'widgetTools' as widgetTools_1.66.0.zip
* DONE (widgetTools)