| Back to Multiple platform build/check report for BioC 3.11 |
|
This page was generated on 2020-10-17 11:59:53 -0400 (Sat, 17 Oct 2020).
| TO THE DEVELOPERS/MAINTAINERS OF THE webbioc PACKAGE: Please make sure to use the following settings in order to reproduce any error or warning you see on this page. |
| Package 1885/1905 | Hostname | OS / Arch | INSTALL | BUILD | CHECK | BUILD BIN | ||||||
| webbioc 1.60.0 Colin A. Smith
| malbec2 | Linux (Ubuntu 18.04.4 LTS) / x86_64 | OK | OK | WARNINGS | |||||||
| tokay2 | Windows Server 2012 R2 Standard / x64 | OK | OK | WARNINGS | NA | |||||||
| machv2 | macOS 10.14.6 Mojave / x86_64 | OK | OK | WARNINGS | [ OK ] |
| Package: webbioc |
| Version: 1.60.0 |
| Command: rm -rf webbioc.buildbin-libdir && mkdir webbioc.buildbin-libdir && /Users/biocbuild/BBS/utils/build-universal.sh webbioc_1.60.0.tar.gz /Library/Frameworks/R.framework/Versions/Current/Resources/bin/R webbioc.buildbin-libdir |
| StartedAt: 2020-10-17 08:11:14 -0400 (Sat, 17 Oct 2020) |
| EndedAt: 2020-10-17 08:11:48 -0400 (Sat, 17 Oct 2020) |
| EllapsedTime: 34.5 seconds |
| RetCode: 0 |
| Status: OK |
| PackageFile: webbioc_1.60.0.tgz |
| PackageFileSize: 200.8 KiB |
############################################################################## ############################################################################## ### ### Running command: ### ### rm -rf webbioc.buildbin-libdir && mkdir webbioc.buildbin-libdir && /Users/biocbuild/BBS/utils/build-universal.sh webbioc_1.60.0.tar.gz /Library/Frameworks/R.framework/Versions/Current/Resources/bin/R webbioc.buildbin-libdir ### ############################################################################## ############################################################################## >>>>>>> >>>>>>> INSTALLATION WITH 'R CMD INSTALL --preclean --no-multiarch --library=webbioc.buildbin-libdir webbioc_1.60.0.tar.gz' >>>>>>> * installing *source* package ‘webbioc’ ... ** using staged installation ** R ** inst ** byte-compile and prepare package for lazy loading Warning message: Package 'KEGG.db' is deprecated and will be removed from Bioconductor version 3.12 ** help *** installing help indices ** building package indices ** installing vignettes ** testing if installed package can be loaded from temporary location Warning: Package 'KEGG.db' is deprecated and will be removed from Bioconductor version 3.12 ** testing if installed package can be loaded from final location Warning: Package 'KEGG.db' is deprecated and will be removed from Bioconductor version 3.12 ** testing if installed package keeps a record of temporary installation path * DONE (webbioc)