| Back to Multiple platform build/check report for BioC 3.11 |
|
This page was generated on 2020-10-17 11:59:53 -0400 (Sat, 17 Oct 2020).
| TO THE DEVELOPERS/MAINTAINERS OF THE waddR PACKAGE: Please make sure to use the following settings in order to reproduce any error or warning you see on this page. |
| Package 1880/1905 | Hostname | OS / Arch | INSTALL | BUILD | CHECK | BUILD BIN | ||||||
| waddR 1.2.0 Julian Flesch
| malbec2 | Linux (Ubuntu 18.04.4 LTS) / x86_64 | OK | OK | OK | |||||||
| tokay2 | Windows Server 2012 R2 Standard / x64 | OK | OK | OK | NA | |||||||
| machv2 | macOS 10.14.6 Mojave / x86_64 | OK | OK | OK | [ OK ] |
| Package: waddR |
| Version: 1.2.0 |
| Command: rm -rf waddR.buildbin-libdir && mkdir waddR.buildbin-libdir && /Users/biocbuild/BBS/utils/build-universal.sh waddR_1.2.0.tar.gz /Library/Frameworks/R.framework/Versions/Current/Resources/bin/R waddR.buildbin-libdir |
| StartedAt: 2020-10-17 08:11:00 -0400 (Sat, 17 Oct 2020) |
| EndedAt: 2020-10-17 08:12:01 -0400 (Sat, 17 Oct 2020) |
| EllapsedTime: 61.1 seconds |
| RetCode: 0 |
| Status: OK |
| PackageFile: waddR_1.2.0.tgz |
| PackageFileSize: 195.7 KiB |
##############################################################################
##############################################################################
###
### Running command:
###
### rm -rf waddR.buildbin-libdir && mkdir waddR.buildbin-libdir && /Users/biocbuild/BBS/utils/build-universal.sh waddR_1.2.0.tar.gz /Library/Frameworks/R.framework/Versions/Current/Resources/bin/R waddR.buildbin-libdir
###
##############################################################################
##############################################################################
>>>>>>>
>>>>>>> INSTALLATION WITH 'R CMD INSTALL --preclean --no-multiarch --library=waddR.buildbin-libdir waddR_1.2.0.tar.gz'
>>>>>>>
* installing *source* package ‘waddR’ ...
** using staged installation
** libs
clang++ -mmacosx-version-min=10.13 -std=gnu++11 -I"/Library/Frameworks/R.framework/Resources/include" -DNDEBUG -I'/Library/Frameworks/R.framework/Versions/4.0/Resources/library/Rcpp/include' -I'/Library/Frameworks/R.framework/Versions/4.0/Resources/library/RcppArmadillo/include' -I/usr/local/include -fPIC -Wall -g -O2 -c RcppExports.cpp -o RcppExports.o
clang++ -mmacosx-version-min=10.13 -std=gnu++11 -I"/Library/Frameworks/R.framework/Resources/include" -DNDEBUG -I'/Library/Frameworks/R.framework/Versions/4.0/Resources/library/Rcpp/include' -I'/Library/Frameworks/R.framework/Versions/4.0/Resources/library/RcppArmadillo/include' -I/usr/local/include -fPIC -Wall -g -O2 -c wasserstein.cpp -o wasserstein.o
wasserstein.cpp:386:27: warning: unused variable 'out_it_end' [-Wunused-variable]
vector<double>::iterator out_it_end = out.end();
^
wasserstein.cpp:501:4: warning: unused variable 'max_x' [-Wunused-variable]
T max_x = x_sorted[n-1];
^
wasserstein.cpp:1168:8: note: in instantiation of function template specialization 'quantile<double>' requested here
res = quantile(x, q, type);
^
2 warnings generated.
clang++ -mmacosx-version-min=10.13 -std=gnu++11 -dynamiclib -Wl,-headerpad_max_install_names -undefined dynamic_lookup -single_module -multiply_defined suppress -L/Library/Frameworks/R.framework/Resources/lib -L/usr/local/lib -o waddR.so RcppExports.o wasserstein.o -F/Library/Frameworks/R.framework/.. -framework R -Wl,-framework -Wl,CoreFoundation
installing to /Users/biocbuild/bbs-3.11-bioc/meat/waddR.buildbin-libdir/00LOCK-waddR/00new/waddR/libs
** R
** inst
** byte-compile and prepare package for lazy loading
** help
*** installing help indices
** building package indices
** installing vignettes
** testing if installed package can be loaded from temporary location
** checking absolute paths in shared objects and dynamic libraries
** testing if installed package can be loaded from final location
** testing if installed package keeps a record of temporary installation path
* DONE (waddR)
>>>>>>>
>>>>>>> FIXING LINKS FOR waddR.buildbin-libdir/waddR/libs/waddR.so
>>>>>>>
install_name_tool -change "/usr/local/lib/libgcc_s.1.dylib" "/Library/Frameworks/R.framework/Versions/4.0/Resources/lib/libgcc_s.1.dylib" "waddR.buildbin-libdir/waddR/libs/waddR.so"
install_name_tool -change "/usr/local/lib/libgfortran.5.dylib" "/Library/Frameworks/R.framework/Versions/4.0/Resources/lib/libgfortran.5.dylib" "waddR.buildbin-libdir/waddR/libs/waddR.so"
install_name_tool -change "/usr/local/lib/libquadmath.0.dylib" "/Library/Frameworks/R.framework/Versions/4.0/Resources/lib/libquadmath.0.dylib" "waddR.buildbin-libdir/waddR/libs/waddR.so"