| Back to Multiple platform build/check report for BioC 3.11 |
|
This page was generated on 2020-10-17 11:59:51 -0400 (Sat, 17 Oct 2020).
| TO THE DEVELOPERS/MAINTAINERS OF THE variancePartition PACKAGE: Please make sure to use the following settings in order to reproduce any error or warning you see on this page. |
| Package 1863/1905 | Hostname | OS / Arch | INSTALL | BUILD | CHECK | BUILD BIN | ||||||
| variancePartition 1.18.3 Gabriel E. Hoffman
| malbec2 | Linux (Ubuntu 18.04.4 LTS) / x86_64 | OK | OK | OK | |||||||
| tokay2 | Windows Server 2012 R2 Standard / x64 | OK | OK | OK | NA | |||||||
| machv2 | macOS 10.14.6 Mojave / x86_64 | OK | OK | [ OK ] | OK |
| Package: variancePartition |
| Version: 1.18.3 |
| Command: /Library/Frameworks/R.framework/Versions/Current/Resources/bin/R CMD check --install=check:variancePartition.install-out.txt --library=/Library/Frameworks/R.framework/Versions/Current/Resources/library --no-vignettes --timings variancePartition_1.18.3.tar.gz |
| StartedAt: 2020-10-17 06:11:58 -0400 (Sat, 17 Oct 2020) |
| EndedAt: 2020-10-17 06:20:59 -0400 (Sat, 17 Oct 2020) |
| EllapsedTime: 541.0 seconds |
| RetCode: 0 |
| Status: OK |
| CheckDir: variancePartition.Rcheck |
| Warnings: 0 |
##############################################################################
##############################################################################
###
### Running command:
###
### /Library/Frameworks/R.framework/Versions/Current/Resources/bin/R CMD check --install=check:variancePartition.install-out.txt --library=/Library/Frameworks/R.framework/Versions/Current/Resources/library --no-vignettes --timings variancePartition_1.18.3.tar.gz
###
##############################################################################
##############################################################################
* using log directory ‘/Users/biocbuild/bbs-3.11-bioc/meat/variancePartition.Rcheck’
* using R version 4.0.3 (2020-10-10)
* using platform: x86_64-apple-darwin17.0 (64-bit)
* using session charset: UTF-8
* using option ‘--no-vignettes’
* checking for file ‘variancePartition/DESCRIPTION’ ... OK
* checking extension type ... Package
* this is package ‘variancePartition’ version ‘1.18.3’
* checking package namespace information ... OK
* checking package dependencies ... OK
* checking if this is a source package ... OK
* checking if there is a namespace ... OK
* checking for hidden files and directories ... OK
* checking for portable file names ... OK
* checking for sufficient/correct file permissions ... OK
* checking whether package ‘variancePartition’ can be installed ... OK
* checking installed package size ... OK
* checking package directory ... OK
* checking ‘build’ directory ... OK
* checking DESCRIPTION meta-information ... OK
* checking top-level files ... OK
* checking for left-over files ... OK
* checking index information ... OK
* checking package subdirectories ... OK
* checking R files for non-ASCII characters ... OK
* checking R files for syntax errors ... OK
* checking whether the package can be loaded ... OK
* checking whether the package can be loaded with stated dependencies ... OK
* checking whether the package can be unloaded cleanly ... OK
* checking whether the namespace can be loaded with stated dependencies ... OK
* checking whether the namespace can be unloaded cleanly ... OK
* checking dependencies in R code ... NOTE
Unexported object imported by a ':::' call: ‘lme4:::reOnly’
See the note in ?`:::` about the use of this operator.
* checking S3 generic/method consistency ... OK
* checking replacement functions ... OK
* checking foreign function calls ... OK
* checking R code for possible problems ... OK
* checking Rd files ... OK
* checking Rd metadata ... OK
* checking Rd cross-references ... OK
* checking for missing documentation entries ... OK
* checking for code/documentation mismatches ... OK
* checking Rd \usage sections ... OK
* checking Rd contents ... OK
* checking for unstated dependencies in examples ... OK
* checking contents of ‘data’ directory ... OK
* checking data for non-ASCII characters ... OK
* checking data for ASCII and uncompressed saves ... OK
* checking sizes of PDF files under ‘inst/doc’ ... OK
* checking files in ‘vignettes’ ... OK
* checking examples ... OK
Examples with CPU (user + system) or elapsed time > 5s
user system elapsed
fitVarPartModel-method 59.050 0.477 59.589
fitExtractVarPartModel-method 57.977 0.510 58.550
varPartConfInf 39.176 0.262 45.618
extractVarPart 34.235 0.297 40.623
plotCompareP-method 30.606 0.276 37.116
plotVarPart-method 18.836 0.165 25.031
sortCols-method 18.573 0.154 24.861
plotPercentBars 18.079 0.162 24.252
residuals-VarParFitList-method 10.741 0.129 17.196
getVarianceComponents 9.371 0.101 15.224
dream-method 5.662 0.244 25.961
voomWithDreamWeights 5.214 0.149 5.369
colinearityScore 3.784 1.532 2.320
plotCorrStructure 1.595 0.043 7.919
* checking for unstated dependencies in ‘tests’ ... OK
* checking tests ...
Running ‘runTests.R’
OK
* checking for unstated dependencies in vignettes ... OK
* checking package vignettes in ‘inst/doc’ ... OK
* checking running R code from vignettes ... SKIPPED
* checking re-building of vignette outputs ... SKIPPED
* checking PDF version of manual ... OK
* DONE
Status: 1 NOTE
See
‘/Users/biocbuild/bbs-3.11-bioc/meat/variancePartition.Rcheck/00check.log’
for details.
variancePartition.Rcheck/00install.out
############################################################################## ############################################################################## ### ### Running command: ### ### /Library/Frameworks/R.framework/Versions/Current/Resources/bin/R CMD INSTALL variancePartition ### ############################################################################## ############################################################################## * installing to library ‘/Library/Frameworks/R.framework/Versions/4.0/Resources/library’ * installing *source* package ‘variancePartition’ ... ** using staged installation ** R ** data ** inst ** byte-compile and prepare package for lazy loading in method for ‘topTable’ with signature ‘"FMT"’: no definition for class “FMT” Creating a new generic function for ‘classifyTestsF’ in package ‘variancePartition’ ** help *** installing help indices ** building package indices ** installing vignettes ** testing if installed package can be loaded from temporary location ** testing if installed package can be loaded from final location ** testing if installed package keeps a record of temporary installation path * DONE (variancePartition)
variancePartition.Rcheck/tests/runTests.Rout
R version 4.0.3 (2020-10-10) -- "Bunny-Wunnies Freak Out"
Copyright (C) 2020 The R Foundation for Statistical Computing
Platform: x86_64-apple-darwin17.0 (64-bit)
R is free software and comes with ABSOLUTELY NO WARRANTY.
You are welcome to redistribute it under certain conditions.
Type 'license()' or 'licence()' for distribution details.
R is a collaborative project with many contributors.
Type 'contributors()' for more information and
'citation()' on how to cite R or R packages in publications.
Type 'demo()' for some demos, 'help()' for on-line help, or
'help.start()' for an HTML browser interface to help.
Type 'q()' to quit R.
> BiocGenerics:::testPackage("variancePartition")
Attaching package: 'BiocGenerics'
The following objects are masked from 'package:parallel':
clusterApply, clusterApplyLB, clusterCall, clusterEvalQ,
clusterExport, clusterMap, parApply, parCapply, parLapply,
parLapplyLB, parRapply, parSapply, parSapplyLB
The following object is masked from 'package:limma':
plotMA
The following objects are masked from 'package:stats':
IQR, mad, sd, var, xtabs
The following objects are masked from 'package:base':
Filter, Find, Map, Position, Reduce, anyDuplicated, append,
as.data.frame, basename, cbind, colnames, dirname, do.call,
duplicated, eval, evalq, get, grep, grepl, intersect, is.unsorted,
lapply, mapply, match, mget, order, paste, pmax, pmax.int, pmin,
pmin.int, rank, rbind, rownames, sapply, setdiff, sort, table,
tapply, union, unique, unsplit, which, which.max, which.min
Welcome to Bioconductor
Vignettes contain introductory material; view with
'browseVignettes()'. To cite Bioconductor, see
'citation("Biobase")', and for packages 'citation("pkgname")'.
Attaching package: 'variancePartition'
The following object is masked from 'package:limma':
classifyTestsF
Dividing work into 10 chunks...
Total:2 s
Dividing work into 10 chunks...
Total:2 s
Dividing work into 10 chunks...
Total:2 s
> proc.time()
user system elapsed
20.245 5.106 13.752
variancePartition.Rcheck/variancePartition-Ex.timings
| name | user | system | elapsed | |
| ESS-method | 0.418 | 0.011 | 0.433 | |
| as.data.frame-varPartResults-method | 2.169 | 0.759 | 1.592 | |
| as.matrix-varPartResults-method | 1.833 | 0.767 | 1.290 | |
| calcVarPart-method | 0.104 | 0.015 | 0.120 | |
| canCorPairs | 0.095 | 0.013 | 0.108 | |
| colinearityScore | 3.784 | 1.532 | 2.320 | |
| dream-method | 5.662 | 0.244 | 25.961 | |
| eBayesFMT | 2.147 | 0.028 | 2.177 | |
| extractVarPart | 34.235 | 0.297 | 40.623 | |
| fitExtractVarPartModel-method | 57.977 | 0.510 | 58.550 | |
| fitVarPartModel-method | 59.050 | 0.477 | 59.589 | |
| getContrast-method | 0.135 | 0.002 | 0.136 | |
| getVarianceComponents | 9.371 | 0.101 | 15.224 | |
| get_prediction | 0.111 | 0.008 | 0.119 | |
| ggColorHue | 0.000 | 0.000 | 0.001 | |
| plotCompareP-method | 30.606 | 0.276 | 37.116 | |
| plotContrasts | 0.441 | 0.003 | 0.446 | |
| plotCorrMatrix | 0.096 | 0.009 | 0.107 | |
| plotCorrStructure | 1.595 | 0.043 | 7.919 | |
| plotPercentBars | 18.079 | 0.162 | 24.252 | |
| plotStratify | 0.835 | 0.005 | 0.842 | |
| plotStratifyBy | 0.920 | 0.005 | 0.926 | |
| plotVarPart-method | 18.836 | 0.165 | 25.031 | |
| residuals-VarParFitList-method | 10.741 | 0.129 | 17.196 | |
| sortCols-method | 18.573 | 0.154 | 24.861 | |
| varPartConfInf | 39.176 | 0.262 | 45.618 | |
| voomWithDreamWeights | 5.214 | 0.149 | 5.369 | |