This page was generated on 2020-10-17 11:54:19 -0400 (Sat, 17 Oct 2020).
variancePartition 1.18.3 Gabriel E. Hoffman
Snapshot Date: 2020-10-16 14:40:19 -0400 (Fri, 16 Oct 2020) |
URL: https://git.bioconductor.org/packages/variancePartition |
Branch: RELEASE_3_11 |
Last Commit: c743718 |
Last Changed Date: 2020-08-07 12:46:40 -0400 (Fri, 07 Aug 2020) |
| malbec2 | Linux (Ubuntu 18.04.4 LTS) / x86_64 | OK | OK | OK | | |
tokay2 | Windows Server 2012 R2 Standard / x64 | OK | OK | OK | NA | |
machv2 | macOS 10.14.6 Mojave / x86_64 | OK | OK | OK | OK | |