Back to Multiple platform build/check report for BioC 3.11
ABCDEFGHIJKLMNOPQRS[T]UVWXYZ

BUILD BIN report for tximport on tokay2

This page was generated on 2020-10-16 11:59:07 -0400 (Fri, 16 Oct 2020).

TO THE DEVELOPERS/MAINTAINERS OF THE tximport PACKAGE: Please make sure to use the following settings in order to reproduce any error or warning you see on this page.
Package 1852/1905HostnameOS / ArchINSTALLBUILDCHECKBUILD BIN
tximport 1.16.1
Michael Love
Snapshot Date: 2020-10-15 14:40:03 -0400 (Thu, 15 Oct 2020)
URL: https://git.bioconductor.org/packages/tximport
Branch: RELEASE_3_11
Last Commit: a4fe5d3
Last Changed Date: 2020-06-05 07:28:29 -0400 (Fri, 05 Jun 2020)
malbec2 Linux (Ubuntu 18.04.4 LTS) / x86_64  OK  OK  OK UNNEEDED, same version exists in internal repository
tokay2 Windows Server 2012 R2 Standard / x64  OK  OK  OK [ OK ]UNNEEDED, same version exists in internal repository
machv2 macOS 10.14.6 Mojave / x86_64  OK  OK  OK  OK UNNEEDED, same version exists in internal repository

Summary

Package: tximport
Version: 1.16.1
Command: rm -rf tximport.buildbin-libdir && mkdir tximport.buildbin-libdir && C:\Users\biocbuild\bbs-3.11-bioc\R\bin\R.exe CMD INSTALL --merge-multiarch --build --library=tximport.buildbin-libdir tximport_1.16.1.tar.gz
StartedAt: 2020-10-16 11:32:22 -0400 (Fri, 16 Oct 2020)
EndedAt: 2020-10-16 11:33:16 -0400 (Fri, 16 Oct 2020)
EllapsedTime: 54.1 seconds
RetCode: 0
Status:  OK  
PackageFile: tximport_1.16.1.zip
PackageFileSize: 352.2 KiB

Command output

##############################################################################
##############################################################################
###
### Running command:
###
###   rm -rf tximport.buildbin-libdir && mkdir tximport.buildbin-libdir && C:\Users\biocbuild\bbs-3.11-bioc\R\bin\R.exe CMD INSTALL --merge-multiarch --build --library=tximport.buildbin-libdir tximport_1.16.1.tar.gz
###
##############################################################################
##############################################################################



install for i386

* installing *source* package 'tximport' ...
** using staged installation
** R
** inst
** byte-compile and prepare package for lazy loading
** help
*** installing help indices
  converting help for package 'tximport'
    finding HTML links ... done
    makeCountsFromAbundance                 html  
    summarizeToGene                         html  
    tximport-package                        html  
    tximport                                html  
** building package indices
** installing vignettes
** testing if installed package can be loaded from temporary location
** testing if installed package can be loaded from final location
** testing if installed package keeps a record of temporary installation path

install for x64

* installing *source* package 'tximport' ...
** testing if installed package can be loaded
* MD5 sums
packaged installation of 'tximport' as tximport_1.16.1.zip
* DONE (tximport)