| Back to Multiple platform build/check report for BioC 3.11 |
|
This page was generated on 2020-10-16 11:59:06 -0400 (Fri, 16 Oct 2020).
| TO THE DEVELOPERS/MAINTAINERS OF THE tscR PACKAGE: Please make sure to use the following settings in order to reproduce any error or warning you see on this page. |
| Package 1842/1905 | Hostname | OS / Arch | INSTALL | BUILD | CHECK | BUILD BIN | ||||||
| tscR 1.0.1 Pérez-Sanz, Fernando
| malbec2 | Linux (Ubuntu 18.04.4 LTS) / x86_64 | OK | OK | OK | |||||||
| tokay2 | Windows Server 2012 R2 Standard / x64 | OK | OK | OK | [ OK ] | |||||||
| machv2 | macOS 10.14.6 Mojave / x86_64 | OK | OK | WARNINGS | OK |
| Package: tscR |
| Version: 1.0.1 |
| Command: rm -rf tscR.buildbin-libdir && mkdir tscR.buildbin-libdir && C:\Users\biocbuild\bbs-3.11-bioc\R\bin\R.exe CMD INSTALL --merge-multiarch --build --library=tscR.buildbin-libdir tscR_1.0.1.tar.gz |
| StartedAt: 2020-10-16 11:31:46 -0400 (Fri, 16 Oct 2020) |
| EndedAt: 2020-10-16 11:32:30 -0400 (Fri, 16 Oct 2020) |
| EllapsedTime: 44.2 seconds |
| RetCode: 0 |
| Status: OK |
| PackageFile: tscR_1.0.1.zip |
| PackageFileSize: 612.4 KiB |
##############################################################################
##############################################################################
###
### Running command:
###
### rm -rf tscR.buildbin-libdir && mkdir tscR.buildbin-libdir && C:\Users\biocbuild\bbs-3.11-bioc\R\bin\R.exe CMD INSTALL --merge-multiarch --build --library=tscR.buildbin-libdir tscR_1.0.1.tar.gz
###
##############################################################################
##############################################################################
install for i386
* installing *source* package 'tscR' ...
** using staged installation
** libs
"C:/rtools40/mingw32/bin/"gcc -I"C:/Users/BIOCBU~1/BBS-3~1.11-/R/include" -DNDEBUG -I"C:/extsoft/include" -O2 -Wall -std=gnu99 -mfpmath=sse -msse2 -mstackrealign -c tscR.c -o tscR.o
"C:/rtools40/mingw32/bin/"gcc -I"C:/Users/BIOCBU~1/BBS-3~1.11-/R/include" -DNDEBUG -I"C:/extsoft/include" -O2 -Wall -std=gnu99 -mfpmath=sse -msse2 -mstackrealign -c tscR_init.c -o tscR_init.o
C:/rtools40/mingw32/bin/gcc -shared -s -static-libgcc -o tscR.dll tmp.def tscR.o tscR_init.o -LC:/extsoft/lib/i386 -LC:/extsoft/lib -LC:/Users/BIOCBU~1/BBS-3~1.11-/R/bin/i386 -lR
installing to C:/Users/biocbuild/bbs-3.11-bioc/meat/tscR.buildbin-libdir/00LOCK-tscR/00new/tscR/libs/i386
** R
** data
** inst
** byte-compile and prepare package for lazy loading
** help
*** installing help indices
converting help for package 'tscR'
finding HTML links ... done
combineCluster html
frechetDist html
frechetDistC html
getClusters html
importFromSE html
imputeSenator-class html
imputeSenatorToData html
imputeSenators html
plotCluster html
plotClusterSenator html
slopeDist html
tscR html
** building package indices
** installing vignettes
** testing if installed package can be loaded from temporary location
** testing if installed package can be loaded from final location
** testing if installed package keeps a record of temporary installation path
install for x64
* installing *source* package 'tscR' ...
** libs
"C:/rtools40/mingw64/bin/"gcc -I"C:/Users/BIOCBU~1/BBS-3~1.11-/R/include" -DNDEBUG -I"C:/extsoft/include" -O2 -Wall -std=gnu99 -mfpmath=sse -msse2 -mstackrealign -c tscR.c -o tscR.o
"C:/rtools40/mingw64/bin/"gcc -I"C:/Users/BIOCBU~1/BBS-3~1.11-/R/include" -DNDEBUG -I"C:/extsoft/include" -O2 -Wall -std=gnu99 -mfpmath=sse -msse2 -mstackrealign -c tscR_init.c -o tscR_init.o
C:/rtools40/mingw64/bin/gcc -shared -s -static-libgcc -o tscR.dll tmp.def tscR.o tscR_init.o -LC:/extsoft/lib/x64 -LC:/extsoft/lib -LC:/Users/BIOCBU~1/BBS-3~1.11-/R/bin/x64 -lR
installing to C:/Users/biocbuild/bbs-3.11-bioc/meat/tscR.buildbin-libdir/tscR/libs/x64
** testing if installed package can be loaded
* MD5 sums
packaged installation of 'tscR' as tscR_1.0.1.zip
* DONE (tscR)