| Back to Multiple platform build/check report for BioC 3.11 | 
 | 
This page was generated on 2020-10-17 11:57:57 -0400 (Sat, 17 Oct 2020).
| TO THE DEVELOPERS/MAINTAINERS OF THE traseR PACKAGE: Please make sure to use the following settings in order to reproduce any error or warning you see on this page. | 
| Package 1827/1905 | Hostname | OS / Arch | INSTALL | BUILD | CHECK | BUILD BIN | ||||||
| traseR 1.18.0 li chen 
 | malbec2 | Linux (Ubuntu 18.04.4 LTS) / x86_64 | OK | OK | OK |  | ||||||
| tokay2 | Windows Server 2012 R2 Standard / x64 | OK | [ OK ] | OK | NA | |||||||
| machv2 | macOS 10.14.6 Mojave / x86_64 | OK | OK | OK | OK |  | 
| Package: traseR | 
| Version: 1.18.0 | 
| Command: chmod a+r traseR -R && C:\Users\biocbuild\bbs-3.11-bioc\R\bin\R.exe CMD build --keep-empty-dirs --no-resave-data traseR | 
| StartedAt: 2020-10-17 01:02:25 -0400 (Sat, 17 Oct 2020) | 
| EndedAt: 2020-10-17 01:03:25 -0400 (Sat, 17 Oct 2020) | 
| EllapsedTime: 60.4 seconds | 
| RetCode: 0 | 
| Status: OK | 
| PackageFile: traseR_1.18.0.tar.gz | 
| PackageFileSize: 6.203 MiB | 
############################################################################## ############################################################################## ### ### Running command: ### ### chmod a+r traseR -R && C:\Users\biocbuild\bbs-3.11-bioc\R\bin\R.exe CMD build --keep-empty-dirs --no-resave-data traseR ### ############################################################################## ############################################################################## * checking for file 'traseR/DESCRIPTION' ... OK * preparing 'traseR': * checking DESCRIPTION meta-information ... OK * installing the package to build vignettes * creating vignettes ... OK * checking for LF line-endings in source and make files and shell scripts * checking for empty or unneeded directories * looking to see if a 'data/datalist' file should be added * building 'traseR_1.18.0.tar.gz'