| Back to Multiple platform build/check report for BioC 3.11 |
|
This page was generated on 2020-10-16 11:59:04 -0400 (Fri, 16 Oct 2020).
| TO THE DEVELOPERS/MAINTAINERS OF THE trackViewer PACKAGE: Please make sure to use the following settings in order to reproduce any error or warning you see on this page. |
| Package 1820/1905 | Hostname | OS / Arch | INSTALL | BUILD | CHECK | BUILD BIN | ||||||
| trackViewer 1.24.2 Jianhong Ou
| malbec2 | Linux (Ubuntu 18.04.4 LTS) / x86_64 | OK | OK | OK | |||||||
| tokay2 | Windows Server 2012 R2 Standard / x64 | OK | OK | OK | [ OK ] | |||||||
| machv2 | macOS 10.14.6 Mojave / x86_64 | OK | OK | OK | OK |
| Package: trackViewer |
| Version: 1.24.2 |
| Command: rm -rf trackViewer.buildbin-libdir && mkdir trackViewer.buildbin-libdir && C:\Users\biocbuild\bbs-3.11-bioc\R\bin\R.exe CMD INSTALL --merge-multiarch --build --library=trackViewer.buildbin-libdir trackViewer_1.24.2.tar.gz |
| StartedAt: 2020-10-16 11:30:23 -0400 (Fri, 16 Oct 2020) |
| EndedAt: 2020-10-16 11:32:06 -0400 (Fri, 16 Oct 2020) |
| EllapsedTime: 103.2 seconds |
| RetCode: 0 |
| Status: OK |
| PackageFile: trackViewer_1.24.2.zip |
| PackageFileSize: 2.504 MiB |
##############################################################################
##############################################################################
###
### Running command:
###
### rm -rf trackViewer.buildbin-libdir && mkdir trackViewer.buildbin-libdir && C:\Users\biocbuild\bbs-3.11-bioc\R\bin\R.exe CMD INSTALL --merge-multiarch --build --library=trackViewer.buildbin-libdir trackViewer_1.24.2.tar.gz
###
##############################################################################
##############################################################################
install for i386
* installing *source* package 'trackViewer' ...
** using staged installation
** R
** inst
** byte-compile and prepare package for lazy loading
** help
*** installing help indices
converting help for package 'trackViewer'
finding HTML links ... done
GRoperator html
addArrowMark html
addGuideLine html
browseTracks-shiny html
browseTracks html
coverageGR html
dandelion.plot html
geneModelFromTxdb html
geneTrack html
getCurTrackViewport html
getGeneIDsFromTxDb html
getLocation html
gi2track html
gieStain html
gridPlot html
ideogramPlot html
importBam html
importData html
importScore html
loadIdeogram html
lolliplot html
optimizeStyle html
parse2GRanges html
parseWIG html
plotGInteractions html
plotGRanges html
plotIdeo html
plotOneIdeo html
pos-class html
trackList-class html
trackStyle-class html
trackViewer-package html
trackViewerStyle-class html
viewGene html
viewTracks html
xscale-class html
yaxisStyle-class html
** building package indices
** installing vignettes
** testing if installed package can be loaded from temporary location
** testing if installed package can be loaded from final location
** testing if installed package keeps a record of temporary installation path
install for x64
* installing *source* package 'trackViewer' ...
** testing if installed package can be loaded
* MD5 sums
packaged installation of 'trackViewer' as trackViewer_1.24.2.zip
* DONE (trackViewer)