| Back to Multiple platform build/check report for BioC 3.11 |
|
This page was generated on 2020-10-16 11:59:03 -0400 (Fri, 16 Oct 2020).
| TO THE DEVELOPERS/MAINTAINERS OF THE tkWidgets PACKAGE: Please make sure to use the following settings in order to reproduce any error or warning you see on this page. |
| Package 1807/1905 | Hostname | OS / Arch | INSTALL | BUILD | CHECK | BUILD BIN | ||||||
| tkWidgets 1.66.0 J. Zhang
| malbec2 | Linux (Ubuntu 18.04.4 LTS) / x86_64 | OK | OK | OK | |||||||
| tokay2 | Windows Server 2012 R2 Standard / x64 | OK | OK | OK | [ OK ] | |||||||
| machv2 | macOS 10.14.6 Mojave / x86_64 | OK | OK | OK | OK |
| Package: tkWidgets |
| Version: 1.66.0 |
| Command: rm -rf tkWidgets.buildbin-libdir && mkdir tkWidgets.buildbin-libdir && C:\Users\biocbuild\bbs-3.11-bioc\R\bin\R.exe CMD INSTALL --merge-multiarch --build --library=tkWidgets.buildbin-libdir tkWidgets_1.66.0.tar.gz |
| StartedAt: 2020-10-16 11:29:34 -0400 (Fri, 16 Oct 2020) |
| EndedAt: 2020-10-16 11:30:19 -0400 (Fri, 16 Oct 2020) |
| EllapsedTime: 44.6 seconds |
| RetCode: 0 |
| Status: OK |
| PackageFile: tkWidgets_1.66.0.zip |
| PackageFileSize: 601.1 KiB |
##############################################################################
##############################################################################
###
### Running command:
###
### rm -rf tkWidgets.buildbin-libdir && mkdir tkWidgets.buildbin-libdir && C:\Users\biocbuild\bbs-3.11-bioc\R\bin\R.exe CMD INSTALL --merge-multiarch --build --library=tkWidgets.buildbin-libdir tkWidgets_1.66.0.tar.gz
###
##############################################################################
##############################################################################
install for i386
* installing *source* package 'tkWidgets' ...
** using staged installation
** R
** inst
** byte-compile and prepare package for lazy loading
** help
*** installing help indices
converting help for package 'tkWidgets'
finding HTML links ... done
DPExplorer html
WName html
appendSepDir html
args2XML html
argsWidget html
colInfo-class html
dataViewer html
dbArgsWidget html
eExplorer html
fileBrowser html
fileWizard html
getLightTW html
getWvalues html
guess.sep html
hasChar html
importPhenoData html
importWizard html
listSelect html
objNameToList html
objViewer html
objectBrowser html
pExplorer html
pickFiles html
pickItems html
pickObjs html
setArgsList html
stdType html
tkMIAME html
tkSampleNames html
tkphenoData html
vExplorer html
values.Widget html
widgetRender html
** building package indices
** installing vignettes
** testing if installed package can be loaded from temporary location
** testing if installed package can be loaded from final location
** testing if installed package keeps a record of temporary installation path
install for x64
* installing *source* package 'tkWidgets' ...
** testing if installed package can be loaded
* MD5 sums
packaged installation of 'tkWidgets' as tkWidgets_1.66.0.zip
* DONE (tkWidgets)