| Back to Multiple platform build/check report for BioC 3.11 |
|
This page was generated on 2020-10-17 11:59:47 -0400 (Sat, 17 Oct 2020).
| TO THE DEVELOPERS/MAINTAINERS OF THE timeOmics PACKAGE: Please make sure to use the following settings in order to reproduce any error or warning you see on this page. |
| Package 1801/1905 | Hostname | OS / Arch | INSTALL | BUILD | CHECK | BUILD BIN | ||||||
| timeOmics 1.0.1 Antoine Bodein
| malbec2 | Linux (Ubuntu 18.04.4 LTS) / x86_64 | ERROR | ERROR | skipped | |||||||
| tokay2 | Windows Server 2012 R2 Standard / x64 | ERROR | ERROR | skipped | skipped | |||||||
| machv2 | macOS 10.14.6 Mojave / x86_64 | ERROR | [ ERROR ] | skipped | skipped |
| Package: timeOmics |
| Version: 1.0.1 |
| Command: /Library/Frameworks/R.framework/Versions/Current/Resources/bin/R CMD build --keep-empty-dirs --no-resave-data timeOmics |
| StartedAt: 2020-10-16 21:36:08 -0400 (Fri, 16 Oct 2020) |
| EndedAt: 2020-10-16 21:36:15 -0400 (Fri, 16 Oct 2020) |
| EllapsedTime: 7.4 seconds |
| RetCode: 1 |
| Status: ERROR |
| PackageFile: None |
| PackageFileSize: NA |
##############################################################################
##############################################################################
###
### Running command:
###
### /Library/Frameworks/R.framework/Versions/Current/Resources/bin/R CMD build --keep-empty-dirs --no-resave-data timeOmics
###
##############################################################################
##############################################################################
* checking for file ‘timeOmics/DESCRIPTION’ ... OK
* preparing ‘timeOmics’:
* checking DESCRIPTION meta-information ... OK
* installing the package to build vignettes
-----------------------------------
ERROR: dependency ‘lmms’ is not available for package ‘timeOmics’
* removing ‘/private/tmp/RtmpiwI95g/Rinst8d136db686/timeOmics’
-----------------------------------
ERROR: package installation failed