| Back to Multiple platform build/check report for BioC 3.11 |
|
This page was generated on 2020-10-16 11:59:01 -0400 (Fri, 16 Oct 2020).
| TO THE DEVELOPERS/MAINTAINERS OF THE target PACKAGE: Please make sure to use the following settings in order to reproduce any error or warning you see on this page. |
| Package 1778/1905 | Hostname | OS / Arch | INSTALL | BUILD | CHECK | BUILD BIN | ||||||
| target 1.2.0 Mahmoud Ahmed
| malbec2 | Linux (Ubuntu 18.04.4 LTS) / x86_64 | OK | OK | OK | |||||||
| tokay2 | Windows Server 2012 R2 Standard / x64 | OK | OK | OK | [ OK ] | |||||||
| machv2 | macOS 10.14.6 Mojave / x86_64 | OK | OK | OK | OK |
| Package: target |
| Version: 1.2.0 |
| Command: rm -rf target.buildbin-libdir && mkdir target.buildbin-libdir && C:\Users\biocbuild\bbs-3.11-bioc\R\bin\R.exe CMD INSTALL --merge-multiarch --build --library=target.buildbin-libdir target_1.2.0.tar.gz |
| StartedAt: 2020-10-16 11:27:42 -0400 (Fri, 16 Oct 2020) |
| EndedAt: 2020-10-16 11:28:30 -0400 (Fri, 16 Oct 2020) |
| EllapsedTime: 47.5 seconds |
| RetCode: 0 |
| Status: OK |
| PackageFile: target_1.2.0.zip |
| PackageFileSize: 3.171 MiB |
##############################################################################
##############################################################################
###
### Running command:
###
### rm -rf target.buildbin-libdir && mkdir target.buildbin-libdir && C:\Users\biocbuild\bbs-3.11-bioc\R\bin\R.exe CMD INSTALL --merge-multiarch --build --library=target.buildbin-libdir target_1.2.0.tar.gz
###
##############################################################################
##############################################################################
install for i386
* installing *source* package 'target' ...
** using staged installation
** R
** data
*** moving datasets to lazyload DB
** inst
** byte-compile and prepare package for lazy loading
** help
*** installing help indices
converting help for package 'target'
finding HTML links ... done
associated_peaks html
direct_targets html
find_distance html
merge_ranges html
plot_predictions html
rank_product html
real_peaks html
real_transcripts html
score_peaks html
score_regions html
sim_peaks html
sim_transcripts html
target html
target_app html
test_predictions html
** building package indices
** installing vignettes
** testing if installed package can be loaded from temporary location
** testing if installed package can be loaded from final location
** testing if installed package keeps a record of temporary installation path
install for x64
* installing *source* package 'target' ...
** testing if installed package can be loaded
* MD5 sums
packaged installation of 'target' as target_1.2.0.zip
* DONE (target)