| Back to Multiple platform build/check report for BioC 3.11 |
|
This page was generated on 2020-10-17 11:59:48 -0400 (Sat, 17 Oct 2020).
| TO THE DEVELOPERS/MAINTAINERS OF THE tRanslatome PACKAGE: Please make sure to use the following settings in order to reproduce any error or warning you see on this page. |
| Package 1825/1905 | Hostname | OS / Arch | INSTALL | BUILD | CHECK | BUILD BIN | ||||||
| tRanslatome 1.26.0 Toma Tebaldi
| malbec2 | Linux (Ubuntu 18.04.4 LTS) / x86_64 | OK | OK | WARNINGS | |||||||
| tokay2 | Windows Server 2012 R2 Standard / x64 | OK | OK | WARNINGS | NA | |||||||
| machv2 | macOS 10.14.6 Mojave / x86_64 | OK | OK | WARNINGS | [ OK ] |
| Package: tRanslatome |
| Version: 1.26.0 |
| Command: rm -rf tRanslatome.buildbin-libdir && mkdir tRanslatome.buildbin-libdir && /Users/biocbuild/BBS/utils/build-universal.sh tRanslatome_1.26.0.tar.gz /Library/Frameworks/R.framework/Versions/Current/Resources/bin/R tRanslatome.buildbin-libdir |
| StartedAt: 2020-10-17 08:08:11 -0400 (Sat, 17 Oct 2020) |
| EndedAt: 2020-10-17 08:08:50 -0400 (Sat, 17 Oct 2020) |
| EllapsedTime: 38.6 seconds |
| RetCode: 0 |
| Status: OK |
| PackageFile: tRanslatome_1.26.0.tgz |
| PackageFileSize: 1.171 MiB |
############################################################################## ############################################################################## ### ### Running command: ### ### rm -rf tRanslatome.buildbin-libdir && mkdir tRanslatome.buildbin-libdir && /Users/biocbuild/BBS/utils/build-universal.sh tRanslatome_1.26.0.tar.gz /Library/Frameworks/R.framework/Versions/Current/Resources/bin/R tRanslatome.buildbin-libdir ### ############################################################################## ############################################################################## >>>>>>> >>>>>>> INSTALLATION WITH 'R CMD INSTALL --preclean --no-multiarch --library=tRanslatome.buildbin-libdir tRanslatome_1.26.0.tar.gz' >>>>>>> * installing *source* package ‘tRanslatome’ ... ** using staged installation ** R ** data ** inst ** byte-compile and prepare package for lazy loading groupGOTerms: GOBPTerm, GOMFTerm, GOCCTerm environments built. Warning message: Package 'DESeq' is deprecated and will be removed from Bioconductor version 3.13. Please use DESeq2 ** help *** installing help indices ** building package indices ** installing vignettes ** testing if installed package can be loaded from temporary location Warning: Package 'DESeq' is deprecated and will be removed from Bioconductor version 3.13. Please use DESeq2 groupGOTerms: GOBPTerm, GOMFTerm, GOCCTerm environments built. ** testing if installed package can be loaded from final location Warning: Package 'DESeq' is deprecated and will be removed from Bioconductor version 3.13. Please use DESeq2 groupGOTerms: GOBPTerm, GOMFTerm, GOCCTerm environments built. ** testing if installed package keeps a record of temporary installation path * DONE (tRanslatome)