| Back to Multiple platform build/check report for BioC 3.11 |
|
This page was generated on 2020-10-16 11:59:06 -0400 (Fri, 16 Oct 2020).
| TO THE DEVELOPERS/MAINTAINERS OF THE tRNAdbImport PACKAGE: Please make sure to use the following settings in order to reproduce any error or warning you see on this page. |
| Package 1838/1905 | Hostname | OS / Arch | INSTALL | BUILD | CHECK | BUILD BIN | ||||||
| tRNAdbImport 1.6.1 Felix G.M. Ernst
| malbec2 | Linux (Ubuntu 18.04.4 LTS) / x86_64 | OK | OK | OK | |||||||
| tokay2 | Windows Server 2012 R2 Standard / x64 | OK | OK | OK | [ OK ] | |||||||
| machv2 | macOS 10.14.6 Mojave / x86_64 | OK | OK | OK | OK |
| Package: tRNAdbImport |
| Version: 1.6.1 |
| Command: rm -rf tRNAdbImport.buildbin-libdir && mkdir tRNAdbImport.buildbin-libdir && C:\Users\biocbuild\bbs-3.11-bioc\R\bin\R.exe CMD INSTALL --merge-multiarch --build --library=tRNAdbImport.buildbin-libdir tRNAdbImport_1.6.1.tar.gz |
| StartedAt: 2020-10-16 11:31:30 -0400 (Fri, 16 Oct 2020) |
| EndedAt: 2020-10-16 11:32:10 -0400 (Fri, 16 Oct 2020) |
| EllapsedTime: 39.9 seconds |
| RetCode: 0 |
| Status: OK |
| PackageFile: tRNAdbImport_1.6.1.zip |
| PackageFileSize: 370.9 KiB |
##############################################################################
##############################################################################
###
### Running command:
###
### rm -rf tRNAdbImport.buildbin-libdir && mkdir tRNAdbImport.buildbin-libdir && C:\Users\biocbuild\bbs-3.11-bioc\R\bin\R.exe CMD INSTALL --merge-multiarch --build --library=tRNAdbImport.buildbin-libdir tRNAdbImport_1.6.1.tar.gz
###
##############################################################################
##############################################################################
install for i386
* installing *source* package 'tRNAdbImport' ...
** using staged installation
** R
** inst
** byte-compile and prepare package for lazy loading
** help
*** installing help indices
converting help for package 'tRNAdbImport'
finding HTML links ... done
import.tRNAdb html
istRNAdbGRanges html
open_tdbID html
tRNAdbImport html
** building package indices
** installing vignettes
** testing if installed package can be loaded from temporary location
** testing if installed package can be loaded from final location
** testing if installed package keeps a record of temporary installation path
install for x64
* installing *source* package 'tRNAdbImport' ...
** testing if installed package can be loaded
* MD5 sums
packaged installation of 'tRNAdbImport' as tRNAdbImport_1.6.1.zip
* DONE (tRNAdbImport)