| Back to Multiple platform build/check report for BioC 3.11 |
|
This page was generated on 2020-10-16 11:59:01 -0400 (Fri, 16 Oct 2020).
| TO THE DEVELOPERS/MAINTAINERS OF THE synlet PACKAGE: Please make sure to use the following settings in order to reproduce any error or warning you see on this page. |
| Package 1774/1905 | Hostname | OS / Arch | INSTALL | BUILD | CHECK | BUILD BIN | ||||||
| synlet 1.18.0 Chunxuan Shao
| malbec2 | Linux (Ubuntu 18.04.4 LTS) / x86_64 | OK | OK | OK | |||||||
| tokay2 | Windows Server 2012 R2 Standard / x64 | OK | OK | OK | [ OK ] | |||||||
| machv2 | macOS 10.14.6 Mojave / x86_64 | OK | OK | OK | OK |
| Package: synlet |
| Version: 1.18.0 |
| Command: rm -rf synlet.buildbin-libdir && mkdir synlet.buildbin-libdir && C:\Users\biocbuild\bbs-3.11-bioc\R\bin\R.exe CMD INSTALL --merge-multiarch --build --library=synlet.buildbin-libdir synlet_1.18.0.tar.gz |
| StartedAt: 2020-10-16 11:27:27 -0400 (Fri, 16 Oct 2020) |
| EndedAt: 2020-10-16 11:28:22 -0400 (Fri, 16 Oct 2020) |
| EllapsedTime: 55.3 seconds |
| RetCode: 0 |
| Status: OK |
| PackageFile: synlet_1.18.0.zip |
| PackageFileSize: 845.1 KiB |
##############################################################################
##############################################################################
###
### Running command:
###
### rm -rf synlet.buildbin-libdir && mkdir synlet.buildbin-libdir && C:\Users\biocbuild\bbs-3.11-bioc\R\bin\R.exe CMD INSTALL --merge-multiarch --build --library=synlet.buildbin-libdir synlet_1.18.0.tar.gz
###
##############################################################################
##############################################################################
install for i386
* installing *source* package 'synlet' ...
** using staged installation
** R
** data
*** moving datasets to lazyload DB
** inst
** byte-compile and prepare package for lazy loading
** help
*** installing help indices
converting help for package 'synlet'
finding HTML links ... done
bScore html
exampleDat html
madSelect html
plateHeatmap html
rankProdHits html
rsaHits html
scatterPlot html
siRNAPlot html
tTest html
zFactor html
** building package indices
** installing vignettes
** testing if installed package can be loaded from temporary location
** testing if installed package can be loaded from final location
** testing if installed package keeps a record of temporary installation path
install for x64
* installing *source* package 'synlet' ...
** testing if installed package can be loaded
* MD5 sums
packaged installation of 'synlet' as synlet_1.18.0.zip
* DONE (synlet)