| Back to Multiple platform build/check report for BioC 3.11 |
|
This page was generated on 2020-10-16 11:59:00 -0400 (Fri, 16 Oct 2020).
| TO THE DEVELOPERS/MAINTAINERS OF THE swfdr PACKAGE: Please make sure to use the following settings in order to reproduce any error or warning you see on this page. |
| Package 1767/1905 | Hostname | OS / Arch | INSTALL | BUILD | CHECK | BUILD BIN | ||||||
| swfdr 1.14.0 Simina M. Boca
| malbec2 | Linux (Ubuntu 18.04.4 LTS) / x86_64 | OK | OK | OK | |||||||
| tokay2 | Windows Server 2012 R2 Standard / x64 | OK | OK | OK | [ OK ] | |||||||
| machv2 | macOS 10.14.6 Mojave / x86_64 | OK | OK | OK | OK |
| Package: swfdr |
| Version: 1.14.0 |
| Command: rm -rf swfdr.buildbin-libdir && mkdir swfdr.buildbin-libdir && C:\Users\biocbuild\bbs-3.11-bioc\R\bin\R.exe CMD INSTALL --merge-multiarch --build --library=swfdr.buildbin-libdir swfdr_1.14.0.tar.gz |
| StartedAt: 2020-10-16 11:26:59 -0400 (Fri, 16 Oct 2020) |
| EndedAt: 2020-10-16 11:27:51 -0400 (Fri, 16 Oct 2020) |
| EllapsedTime: 51.7 seconds |
| RetCode: 0 |
| Status: OK |
| PackageFile: swfdr_1.14.0.zip |
| PackageFileSize: 1.433 MiB |
##############################################################################
##############################################################################
###
### Running command:
###
### rm -rf swfdr.buildbin-libdir && mkdir swfdr.buildbin-libdir && C:\Users\biocbuild\bbs-3.11-bioc\R\bin\R.exe CMD INSTALL --merge-multiarch --build --library=swfdr.buildbin-libdir swfdr_1.14.0.tar.gz
###
##############################################################################
##############################################################################
install for i386
* installing *source* package 'swfdr' ...
** using staged installation
** R
** data
*** moving datasets to lazyload DB
** inst
** byte-compile and prepare package for lazy loading
** help
*** installing help indices
converting help for package 'swfdr'
finding HTML links ... done
BMI_GIANT_GWAS_sample html
calculateSwfdr html
get_number_decimals html
journals_pVals html
lm_pi0 html
lm_qvalue html
** building package indices
** installing vignettes
** testing if installed package can be loaded from temporary location
** testing if installed package can be loaded from final location
** testing if installed package keeps a record of temporary installation path
install for x64
* installing *source* package 'swfdr' ...
** testing if installed package can be loaded
* MD5 sums
packaged installation of 'swfdr' as swfdr_1.14.0.zip
* DONE (swfdr)