| Back to Multiple platform build/check report for BioC 3.11 |
|
This page was generated on 2020-10-16 11:59:00 -0400 (Fri, 16 Oct 2020).
| TO THE DEVELOPERS/MAINTAINERS OF THE supraHex PACKAGE: Please make sure to use the following settings in order to reproduce any error or warning you see on this page. |
| Package 1759/1905 | Hostname | OS / Arch | INSTALL | BUILD | CHECK | BUILD BIN | ||||||
| supraHex 1.26.0 Hai Fang
| malbec2 | Linux (Ubuntu 18.04.4 LTS) / x86_64 | OK | OK | OK | |||||||
| tokay2 | Windows Server 2012 R2 Standard / x64 | OK | OK | OK | [ OK ] | |||||||
| machv2 | macOS 10.14.6 Mojave / x86_64 | OK | OK | OK | OK |
| Package: supraHex |
| Version: 1.26.0 |
| Command: rm -rf supraHex.buildbin-libdir && mkdir supraHex.buildbin-libdir && C:\Users\biocbuild\bbs-3.11-bioc\R\bin\R.exe CMD INSTALL --merge-multiarch --build --library=supraHex.buildbin-libdir supraHex_1.26.0.tar.gz |
| StartedAt: 2020-10-16 11:26:27 -0400 (Fri, 16 Oct 2020) |
| EndedAt: 2020-10-16 11:27:07 -0400 (Fri, 16 Oct 2020) |
| EllapsedTime: 40.3 seconds |
| RetCode: 0 |
| Status: OK |
| PackageFile: supraHex_1.26.0.zip |
| PackageFileSize: 3.667 MiB |
##############################################################################
##############################################################################
###
### Running command:
###
### rm -rf supraHex.buildbin-libdir && mkdir supraHex.buildbin-libdir && C:\Users\biocbuild\bbs-3.11-bioc\R\bin\R.exe CMD INSTALL --merge-multiarch --build --library=supraHex.buildbin-libdir supraHex_1.26.0.tar.gz
###
##############################################################################
##############################################################################
install for i386
* installing *source* package 'supraHex' ...
** using staged installation
** R
** data
** inst
** byte-compile and prepare package for lazy loading
** help
*** installing help indices
converting help for package 'supraHex'
finding HTML links ... done
Fang html
Golub html
Xiang html
sBMH html
sCompReorder html
sDistance html
sDmat html
sDmatCluster html
sDmatMinima html
sHexDist html
sHexGrid html
sHexGridVariant html
sHexPolygon html
sInitial html
sMapOverlay html
sNeighAny html
sNeighDirect html
sPipeline html
sTopology html
sTrainBatch html
sTrainSeq html
sTrainology html
sWriteData html
visColoralpha html
visColorbar html
visColormap html
visCompReorder html
visDmatCluster html
visDmatHeatmap html
visHeatmap html
visHeatmapAdv html
visHexAnimate html
visHexBarplot html
visHexComp html
visHexGrid html
visHexMapping html
visHexMulComp html
visHexPattern html
visKernels html
visTreeBSclust html
visTreeBootstrap html
visVp html
** building package indices
** installing vignettes
** testing if installed package can be loaded from temporary location
** testing if installed package can be loaded from final location
** testing if installed package keeps a record of temporary installation path
install for x64
* installing *source* package 'supraHex' ...
** testing if installed package can be loaded
* MD5 sums
packaged installation of 'supraHex' as supraHex_1.26.0.zip
* DONE (supraHex)