| Back to Multiple platform build/check report for BioC 3.11 |
|
This page was generated on 2020-10-16 11:58:59 -0400 (Fri, 16 Oct 2020).
| TO THE DEVELOPERS/MAINTAINERS OF THE strandCheckR PACKAGE: Please make sure to use the following settings in order to reproduce any error or warning you see on this page. |
| Package 1747/1905 | Hostname | OS / Arch | INSTALL | BUILD | CHECK | BUILD BIN | ||||||
| strandCheckR 1.6.0 Thu-Hien To
| malbec2 | Linux (Ubuntu 18.04.4 LTS) / x86_64 | OK | OK | OK | |||||||
| tokay2 | Windows Server 2012 R2 Standard / x64 | OK | OK | OK | [ OK ] | |||||||
| machv2 | macOS 10.14.6 Mojave / x86_64 | OK | OK | OK | OK |
| Package: strandCheckR |
| Version: 1.6.0 |
| Command: rm -rf strandCheckR.buildbin-libdir && mkdir strandCheckR.buildbin-libdir && C:\Users\biocbuild\bbs-3.11-bioc\R\bin\R.exe CMD INSTALL --merge-multiarch --build --library=strandCheckR.buildbin-libdir strandCheckR_1.6.0.tar.gz |
| StartedAt: 2020-10-16 11:25:40 -0400 (Fri, 16 Oct 2020) |
| EndedAt: 2020-10-16 11:27:12 -0400 (Fri, 16 Oct 2020) |
| EllapsedTime: 91.4 seconds |
| RetCode: 0 |
| Status: OK |
| PackageFile: strandCheckR_1.6.0.zip |
| PackageFileSize: 936.1 KiB |
##############################################################################
##############################################################################
###
### Running command:
###
### rm -rf strandCheckR.buildbin-libdir && mkdir strandCheckR.buildbin-libdir && C:\Users\biocbuild\bbs-3.11-bioc\R\bin\R.exe CMD INSTALL --merge-multiarch --build --library=strandCheckR.buildbin-libdir strandCheckR_1.6.0.tar.gz
###
##############################################################################
##############################################################################
install for i386
* installing *source* package 'strandCheckR' ...
** using staged installation
** R
** inst
** byte-compile and prepare package for lazy loading
** help
*** installing help indices
converting help for package 'strandCheckR'
finding HTML links ... done
calculateStrandCoverage html
calculateStrandNbReads html
checkPairedEnd html
concatenateAlignments html
filterDNA html
getWinFromBamFile html
getWinFromGranges html
getWinFromIRanges html
finding level-2 HTML links ... done
getWinFromReadInfo html
getWinOfAlignments html
intersectWithFeature html
keptProbaWin html
keptReadFragment html
plotHist html
plotWin html
strandCheckR-package html
summarizeHist html
** building package indices
** installing vignettes
** testing if installed package can be loaded from temporary location
** testing if installed package can be loaded from final location
** testing if installed package keeps a record of temporary installation path
install for x64
* installing *source* package 'strandCheckR' ...
** testing if installed package can be loaded
* MD5 sums
packaged installation of 'strandCheckR' as strandCheckR_1.6.0.zip
* DONE (strandCheckR)