| Back to Multiple platform build/check report for BioC 3.11 | 
 | 
This page was generated on 2020-10-17 11:57:52 -0400 (Sat, 17 Oct 2020).
| TO THE DEVELOPERS/MAINTAINERS OF THE stepNorm PACKAGE: Please make sure to use the following settings in order to reproduce any error or warning you see on this page. | 
| Package 1746/1905 | Hostname | OS / Arch | INSTALL | BUILD | CHECK | BUILD BIN | ||||||
| stepNorm 1.60.0 Yuanyuan Xiao 
 | malbec2 | Linux (Ubuntu 18.04.4 LTS) / x86_64 | OK | OK | OK |  | ||||||
| tokay2 | Windows Server 2012 R2 Standard / x64 | [ OK ] | OK | OK | NA | |||||||
| machv2 | macOS 10.14.6 Mojave / x86_64 | OK | OK | OK | OK |  | 
| Package: stepNorm | 
| Version: 1.60.0 | 
| Command: C:\cygwin\bin\curl.exe -O https://malbec2.bioconductor.org/BBS/3.11/bioc/src/contrib/stepNorm_1.60.0.tar.gz && rm -rf stepNorm.buildbin-libdir && mkdir stepNorm.buildbin-libdir && C:\Users\biocbuild\bbs-3.11-bioc\R\bin\R.exe CMD INSTALL --merge-multiarch --build --library=stepNorm.buildbin-libdir stepNorm_1.60.0.tar.gz && C:\Users\biocbuild\bbs-3.11-bioc\R\bin\R.exe CMD INSTALL stepNorm_1.60.0.zip && rm stepNorm_1.60.0.tar.gz stepNorm_1.60.0.zip | 
| StartedAt: 2020-10-16 17:00:45 -0400 (Fri, 16 Oct 2020) | 
| EndedAt: 2020-10-16 17:01:27 -0400 (Fri, 16 Oct 2020) | 
| EllapsedTime: 42.6 seconds | 
| RetCode: 0 | 
| Status: OK | 
##############################################################################
##############################################################################
###
### Running command:
###
###   C:\cygwin\bin\curl.exe -O https://malbec2.bioconductor.org/BBS/3.11/bioc/src/contrib/stepNorm_1.60.0.tar.gz && rm -rf stepNorm.buildbin-libdir && mkdir stepNorm.buildbin-libdir && C:\Users\biocbuild\bbs-3.11-bioc\R\bin\R.exe CMD INSTALL --merge-multiarch --build --library=stepNorm.buildbin-libdir stepNorm_1.60.0.tar.gz && C:\Users\biocbuild\bbs-3.11-bioc\R\bin\R.exe CMD INSTALL stepNorm_1.60.0.zip && rm stepNorm_1.60.0.tar.gz stepNorm_1.60.0.zip
###
##############################################################################
##############################################################################
  % Total    % Received % Xferd  Average Speed   Time    Time     Time  Current
                                 Dload  Upload   Total   Spent    Left  Speed
  0     0    0     0    0     0      0      0 --:--:-- --:--:-- --:--:--     0
100  460k  100  460k    0     0  6565k      0 --:--:-- --:--:-- --:--:-- 7304k
install for i386
* installing *source* package 'stepNorm' ...
** using staged installation
** R
** inst
** byte-compile and prepare package for lazy loading
** help
*** installing help indices
  converting help for package 'stepNorm'
    finding HTML links ... done
    calcAIC                                 html  
    calcBIC                                 html  
    fit2DWithin                             html  
    fitWithin                               html  
    maCompPlate2                            html  
    makeStepList                            html  
    marrayFitClass                          html  
    seqWithinNorm                           html  
    stepNorm-internal                       html  
    stepWithinNorm                          html  
    withinNorm                              html  
** building package indices
** testing if installed package can be loaded from temporary location
** testing if installed package can be loaded from final location
** testing if installed package keeps a record of temporary installation path
install for x64
* installing *source* package 'stepNorm' ...
** testing if installed package can be loaded
* MD5 sums
packaged installation of 'stepNorm' as stepNorm_1.60.0.zip
* DONE (stepNorm)
* installing to library 'C:/Users/biocbuild/bbs-3.11-bioc/R/library'
package 'stepNorm' successfully unpacked and MD5 sums checked